BEGIN:VCALENDAR
VERSION:2.0
PRODID:-//COLLEEN LLOY - ECPv6.15.20//NONSGML v1.0//EN
CALSCALE:GREGORIAN
METHOD:PUBLISH
X-WR-CALNAME:COLLEEN LLOY
X-ORIGINAL-URL:https://colleenlloy.com
X-WR-CALDESC:Events for COLLEEN LLOY
REFRESH-INTERVAL;VALUE=DURATION:PT1H
X-Robots-Tag:noindex
X-PUBLISHED-TTL:PT1H
BEGIN:VTIMEZONE
TZID:UTC
BEGIN:STANDARD
TZOFFSETFROM:+0000
TZOFFSETTO:+0000
TZNAME:UTC
DTSTART:20180101T000000
END:STANDARD
END:VTIMEZONE
BEGIN:VEVENT
DTSTART;TZID=UTC:20190316T173000
DTEND;TZID=UTC:20190316T203000
DTSTAMP:20260426T001418
CREATED:20181218T210713Z
LAST-MODIFIED:20181218T210713Z
UID:7124-1552757400-1552768200@colleenlloy.com
SUMMARY:Hanks in the Boro
DESCRIPTION:
URL:https://colleenlloy.com/calendar/hanks-in-the-boro-6/
LOCATION:SC
END:VEVENT
END:VCALENDAR