BEGIN:VCALENDAR
VERSION:2.0
PRODID:-//COLLEEN LLOY - ECPv6.15.20//NONSGML v1.0//EN
CALSCALE:GREGORIAN
METHOD:PUBLISH
X-WR-CALNAME:COLLEEN LLOY
X-ORIGINAL-URL:https://colleenlloy.com
X-WR-CALDESC:Events for COLLEEN LLOY
REFRESH-INTERVAL;VALUE=DURATION:PT1H
X-Robots-Tag:noindex
X-PUBLISHED-TTL:PT1H
BEGIN:VTIMEZONE
TZID:UTC
BEGIN:STANDARD
TZOFFSETFROM:+0000
TZOFFSETTO:+0000
TZNAME:UTC
DTSTART:20180101T000000
END:STANDARD
END:VTIMEZONE
BEGIN:VEVENT
DTSTART;TZID=UTC:20190327T080000
DTEND;TZID=UTC:20190330T170000
DTSTAMP:20260426T001417
CREATED:20181218T205158Z
LAST-MODIFIED:20181218T205158Z
UID:7100-1553673600-1553965200@colleenlloy.com
SUMMARY:Songs on the Bayou Festival
DESCRIPTION:TO BE ANNOUNCED
URL:https://colleenlloy.com/calendar/songs-on-the-bayou-festival-2/
LOCATION:SC
END:VEVENT
BEGIN:VEVENT
DTSTART;TZID=UTC:20190329T180000
DTEND;TZID=UTC:20190329T210000
DTSTAMP:20260426T001417
CREATED:20181218T210606Z
LAST-MODIFIED:20181218T210606Z
UID:7122-1553882400-1553893200@colleenlloy.com
SUMMARY:Don Arturo's Mexican Grill
DESCRIPTION:
URL:https://colleenlloy.com/calendar/don-arturos-mexican-grill-78/
LOCATION:SC
END:VEVENT
END:VCALENDAR