BEGIN:VCALENDAR
VERSION:2.0
PRODID:-//COLLEEN LLOY - ECPv6.15.20//NONSGML v1.0//EN
CALSCALE:GREGORIAN
METHOD:PUBLISH
X-ORIGINAL-URL:https://colleenlloy.com
X-WR-CALDESC:Events for COLLEEN LLOY
REFRESH-INTERVAL;VALUE=DURATION:PT1H
X-Robots-Tag:noindex
X-PUBLISHED-TTL:PT1H
BEGIN:VTIMEZONE
TZID:UTC
BEGIN:STANDARD
TZOFFSETFROM:+0000
TZOFFSETTO:+0000
TZNAME:UTC
DTSTART:20180101T000000
END:STANDARD
END:VTIMEZONE
BEGIN:VEVENT
DTSTART;TZID=UTC:20190512T200000
DTEND;TZID=UTC:20190513T000000
DTSTAMP:20260425T184316
CREATED:20190418T192818Z
LAST-MODIFIED:20190418T192818Z
UID:7202-1557691200-1557705600@colleenlloy.com
SUMMARY:Dan Brayall and Colleen Lloy at Opryland (Jack Daniels)
DESCRIPTION:
URL:https://colleenlloy.com/calendar/dan-brayall-and-colleen-lloy-at-opryland-jack-daniels/
LOCATION:SC
END:VEVENT
END:VCALENDAR