BEGIN:VCALENDAR
VERSION:2.0
PRODID:-//COLLEEN LLOY - ECPv6.15.20//NONSGML v1.0//EN
CALSCALE:GREGORIAN
METHOD:PUBLISH
X-ORIGINAL-URL:https://colleenlloy.com
X-WR-CALDESC:Events for COLLEEN LLOY
REFRESH-INTERVAL;VALUE=DURATION:PT1H
X-Robots-Tag:noindex
X-PUBLISHED-TTL:PT1H
BEGIN:VTIMEZONE
TZID:UTC
BEGIN:STANDARD
TZOFFSETFROM:+0000
TZOFFSETTO:+0000
TZNAME:UTC
DTSTART:20180101T000000
END:STANDARD
END:VTIMEZONE
BEGIN:VEVENT
DTSTART;TZID=UTC:20190524T080000
DTEND;TZID=UTC:20190527T170000
DTSTAMP:20260425T184315
CREATED:20190514T183302Z
LAST-MODIFIED:20190514T183302Z
UID:7221-1558684800-1558976400@colleenlloy.com
SUMMARY:Grand Junction\, CO TBD
DESCRIPTION:
URL:https://colleenlloy.com/calendar/grand-junction-co-tbd/
LOCATION:SC
END:VEVENT
BEGIN:VEVENT
DTSTART;TZID=UTC:20190524T173000
DTEND;TZID=UTC:20190524T203000
DTSTAMP:20260425T184315
CREATED:20190405T200538Z
LAST-MODIFIED:20190405T200538Z
UID:7159-1558719000-1558729800@colleenlloy.com
SUMMARY:Don Arturo's Mexican Grill
DESCRIPTION:
URL:https://colleenlloy.com/calendar/don-arturos-mexican-grill-84/
LOCATION:SC
END:VEVENT
END:VCALENDAR