BEGIN:VCALENDAR
VERSION:2.0
PRODID:-//COLLEEN LLOY - ECPv6.15.20//NONSGML v1.0//EN
CALSCALE:GREGORIAN
METHOD:PUBLISH
X-ORIGINAL-URL:https://colleenlloy.com
X-WR-CALDESC:Events for COLLEEN LLOY
REFRESH-INTERVAL;VALUE=DURATION:PT1H
X-Robots-Tag:noindex
X-PUBLISHED-TTL:PT1H
BEGIN:VTIMEZONE
TZID:UTC
BEGIN:STANDARD
TZOFFSETFROM:+0000
TZOFFSETTO:+0000
TZNAME:UTC
DTSTART:20180101T000000
END:STANDARD
END:VTIMEZONE
BEGIN:VEVENT
DTSTART;TZID=UTC:20190720T080000
DTEND;TZID=UTC:20190720T170000
DTSTAMP:20260425T131341
CREATED:20190507T143247Z
LAST-MODIFIED:20190507T143247Z
UID:7216-1563609600-1563642000@colleenlloy.com
SUMMARY:First time at FLORA-BAMA!!!
DESCRIPTION:Heading to the beach peeps! Join me at Flora-Bama time to be determined.
URL:https://colleenlloy.com/calendar/first-time-at-flora-bama/
LOCATION:SC
END:VEVENT
END:VCALENDAR