BEGIN:VCALENDAR
VERSION:2.0
PRODID:-//COLLEEN LLOY - ECPv6.15.20//NONSGML v1.0//EN
CALSCALE:GREGORIAN
METHOD:PUBLISH
X-ORIGINAL-URL:https://colleenlloy.com
X-WR-CALDESC:Events for COLLEEN LLOY
REFRESH-INTERVAL;VALUE=DURATION:PT1H
X-Robots-Tag:noindex
X-PUBLISHED-TTL:PT1H
BEGIN:VTIMEZONE
TZID:UTC
BEGIN:STANDARD
TZOFFSETFROM:+0000
TZOFFSETTO:+0000
TZNAME:UTC
DTSTART:20180101T000000
END:STANDARD
END:VTIMEZONE
BEGIN:VEVENT
DTSTART;TZID=UTC:20190724T200000
DTEND;TZID=UTC:20190724T203000
DTSTAMP:20260425T131341
CREATED:20190718T185915Z
LAST-MODIFIED:20190718T185915Z
UID:7256-1563998400-1564000200@colleenlloy.com
SUMMARY:Pam Belford and I at the Commodore Grille
DESCRIPTION:Pam has graciously asked me to share the featured writer spot at the Commodore Grille with her!
URL:https://colleenlloy.com/calendar/pam-belford-and-i-at-the-commodore-grille/
LOCATION:SC
END:VEVENT
END:VCALENDAR