BEGIN:VCALENDAR
VERSION:2.0
PRODID:-//COLLEEN LLOY - ECPv6.15.20//NONSGML v1.0//EN
CALSCALE:GREGORIAN
METHOD:PUBLISH
X-ORIGINAL-URL:https://colleenlloy.com
X-WR-CALDESC:Events for COLLEEN LLOY
REFRESH-INTERVAL;VALUE=DURATION:PT1H
X-Robots-Tag:noindex
X-PUBLISHED-TTL:PT1H
BEGIN:VTIMEZONE
TZID:UTC
BEGIN:STANDARD
TZOFFSETFROM:+0000
TZOFFSETTO:+0000
TZNAME:UTC
DTSTART:20180101T000000
END:STANDARD
END:VTIMEZONE
BEGIN:VEVENT
DTSTART;TZID=UTC:20190822T080000
DTEND;TZID=UTC:20190825T170000
DTSTAMP:20260425T112103
CREATED:20190718T191145Z
LAST-MODIFIED:20190718T191145Z
UID:7260-1566460800-1566752400@colleenlloy.com
SUMMARY:Gulfport\, MS a songwriting I will go
DESCRIPTION:Teaming up with Randy Soboul to write some amazing songs and sing a few…
URL:https://colleenlloy.com/calendar/biloxi-ms-a-songwriting-i-will-go/
LOCATION:SC
END:VEVENT
END:VCALENDAR