BEGIN:VCALENDAR
VERSION:2.0
PRODID:-//COLLEEN LLOY - ECPv6.15.20//NONSGML v1.0//EN
CALSCALE:GREGORIAN
METHOD:PUBLISH
X-ORIGINAL-URL:https://colleenlloy.com
X-WR-CALDESC:Events for COLLEEN LLOY
REFRESH-INTERVAL;VALUE=DURATION:PT1H
X-Robots-Tag:noindex
X-PUBLISHED-TTL:PT1H
BEGIN:VTIMEZONE
TZID:UTC
BEGIN:STANDARD
TZOFFSETFROM:+0000
TZOFFSETTO:+0000
TZNAME:UTC
DTSTART:20180101T000000
END:STANDARD
END:VTIMEZONE
BEGIN:VEVENT
DTSTART;VALUE=DATE:20191102
DTEND;VALUE=DATE:20191103
DTSTAMP:20260425T034841
CREATED:20190612T220709Z
LAST-MODIFIED:20190612T220709Z
UID:7238-1572652800-1572739199@colleenlloy.com
SUMMARY:Concert of Light with the Last Honkytonk Music Series
DESCRIPTION:Join us at the Beacon Theatre
URL:https://colleenlloy.com/calendar/concert-of-light-with-the-last-honkytonk-music-series/
LOCATION:SC
END:VEVENT
END:VCALENDAR