BEGIN:VCALENDAR
VERSION:2.0
PRODID:-//COLLEEN LLOY - ECPv6.15.20//NONSGML v1.0//EN
CALSCALE:GREGORIAN
METHOD:PUBLISH
X-ORIGINAL-URL:https://colleenlloy.com
X-WR-CALDESC:Events for COLLEEN LLOY
REFRESH-INTERVAL;VALUE=DURATION:PT1H
X-Robots-Tag:noindex
X-PUBLISHED-TTL:PT1H
BEGIN:VTIMEZONE
TZID:UTC
BEGIN:STANDARD
TZOFFSETFROM:+0000
TZOFFSETTO:+0000
TZNAME:UTC
DTSTART:20180101T000000
END:STANDARD
END:VTIMEZONE
BEGIN:VEVENT
DTSTART;TZID=UTC:20191207T180000
DTEND;TZID=UTC:20191207T220000
DTSTAMP:20260425T015337
CREATED:20191022T173912Z
LAST-MODIFIED:20191022T173912Z
UID:8293-1575741600-1575756000@colleenlloy.com
SUMMARY:Dan Brayall and Colleen Lloy at Findley's in Opryland
DESCRIPTION:
URL:https://colleenlloy.com/calendar/dan-brayall-and-colleen-lloy-at-findleys-in-opryland-3/
LOCATION:SC
END:VEVENT
END:VCALENDAR