BEGIN:VCALENDAR
VERSION:2.0
PRODID:-//COLLEEN LLOY - ECPv6.15.20//NONSGML v1.0//EN
CALSCALE:GREGORIAN
METHOD:PUBLISH
X-ORIGINAL-URL:https://colleenlloy.com
X-WR-CALDESC:Events for COLLEEN LLOY
REFRESH-INTERVAL;VALUE=DURATION:PT1H
X-Robots-Tag:noindex
X-PUBLISHED-TTL:PT1H
BEGIN:VTIMEZONE
TZID:UTC
BEGIN:STANDARD
TZOFFSETFROM:+0000
TZOFFSETTO:+0000
TZNAME:UTC
DTSTART:20190101T000000
END:STANDARD
END:VTIMEZONE
BEGIN:VEVENT
DTSTART;TZID=UTC:20200626T190000
DTEND;TZID=UTC:20200626T220000
DTSTAMP:20260424T113411
CREATED:20200623T190028Z
LAST-MODIFIED:20200623T190028Z
UID:11353-1593198000-1593208800@colleenlloy.com
SUMMARY:Vanh Dy's Asian Restaurant & Lounge
DESCRIPTION:Temperatures required. 🙂
URL:https://colleenlloy.com/calendar/vanh-dys-asian-restaurant-lounge/
LOCATION:SC
END:VEVENT
END:VCALENDAR