BEGIN:VCALENDAR
VERSION:2.0
PRODID:-//COLLEEN LLOY - ECPv6.15.20//NONSGML v1.0//EN
CALSCALE:GREGORIAN
METHOD:PUBLISH
X-ORIGINAL-URL:https://colleenlloy.com
X-WR-CALDESC:Events for COLLEEN LLOY
REFRESH-INTERVAL;VALUE=DURATION:PT1H
X-Robots-Tag:noindex
X-PUBLISHED-TTL:PT1H
BEGIN:VTIMEZONE
TZID:UTC
BEGIN:STANDARD
TZOFFSETFROM:+0000
TZOFFSETTO:+0000
TZNAME:UTC
DTSTART:20190101T000000
END:STANDARD
END:VTIMEZONE
BEGIN:VEVENT
DTSTART;TZID=UTC:20200627T180000
DTEND;TZID=UTC:20200627T213000
DTSTAMP:20260424T113412
CREATED:20200623T190509Z
LAST-MODIFIED:20200623T190509Z
UID:11355-1593280800-1593293400@colleenlloy.com
SUMMARY:Carmen's Taqueria
DESCRIPTION:I found this gem of a place through my neighbors. The food is amazing! They have a great patio. But\, I will be playing inside!
URL:https://colleenlloy.com/calendar/carmens-taqueria/
LOCATION:SC
END:VEVENT
END:VCALENDAR