BEGIN:VCALENDAR
VERSION:2.0
PRODID:-//COLLEEN LLOY - ECPv6.15.20//NONSGML v1.0//EN
CALSCALE:GREGORIAN
METHOD:PUBLISH
X-WR-CALNAME:COLLEEN LLOY
X-ORIGINAL-URL:https://colleenlloy.com
X-WR-CALDESC:Events for COLLEEN LLOY
REFRESH-INTERVAL;VALUE=DURATION:PT1H
X-Robots-Tag:noindex
X-PUBLISHED-TTL:PT1H
BEGIN:VTIMEZONE
TZID:UTC
BEGIN:STANDARD
TZOFFSETFROM:+0000
TZOFFSETTO:+0000
TZNAME:UTC
DTSTART:20200101T000000
END:STANDARD
END:VTIMEZONE
BEGIN:VEVENT
DTSTART;TZID=UTC:20210212T190000
DTEND;TZID=UTC:20210212T220000
DTSTAMP:20260423T051755
CREATED:20210302T185258Z
LAST-MODIFIED:20210302T185258Z
UID:13464-1613156400-1613167200@colleenlloy.com
SUMMARY:Tru Blues House of Wings
DESCRIPTION:Catch me if you can…catch of the day!
URL:https://colleenlloy.com/calendar/tru-blues-house-of-wings-2/
LOCATION:SC
END:VEVENT
END:VCALENDAR