BEGIN:VCALENDAR
VERSION:2.0
PRODID:-//COLLEEN LLOY - ECPv6.15.20//NONSGML v1.0//EN
CALSCALE:GREGORIAN
METHOD:PUBLISH
X-ORIGINAL-URL:https://colleenlloy.com
X-WR-CALDESC:Events for COLLEEN LLOY
REFRESH-INTERVAL;VALUE=DURATION:PT1H
X-Robots-Tag:noindex
X-PUBLISHED-TTL:PT1H
BEGIN:VTIMEZONE
TZID:UTC
BEGIN:STANDARD
TZOFFSETFROM:+0000
TZOFFSETTO:+0000
TZNAME:UTC
DTSTART:20200101T000000
END:STANDARD
END:VTIMEZONE
BEGIN:VEVENT
DTSTART;TZID=UTC:20210218T190000
DTEND;TZID=UTC:20210218T220000
DTSTAMP:20260423T070956
CREATED:20210302T190453Z
LAST-MODIFIED:20210302T190453Z
UID:13475-1613674800-1613685600@colleenlloy.com
SUMMARY:PARK CIRCLE CONEY ISLAND!
DESCRIPTION:
URL:https://colleenlloy.com/calendar/park-circle-coney-island/
LOCATION:SC
END:VEVENT
END:VCALENDAR