BEGIN:VCALENDAR
VERSION:2.0
PRODID:-//COLLEEN LLOY - ECPv6.15.20//NONSGML v1.0//EN
CALSCALE:GREGORIAN
METHOD:PUBLISH
X-ORIGINAL-URL:https://colleenlloy.com
X-WR-CALDESC:Events for COLLEEN LLOY
REFRESH-INTERVAL;VALUE=DURATION:PT1H
X-Robots-Tag:noindex
X-PUBLISHED-TTL:PT1H
BEGIN:VTIMEZONE
TZID:UTC
BEGIN:STANDARD
TZOFFSETFROM:+0000
TZOFFSETTO:+0000
TZNAME:UTC
DTSTART:20200101T000000
END:STANDARD
END:VTIMEZONE
BEGIN:VEVENT
DTSTART;TZID=UTC:20210219T190000
DTEND;TZID=UTC:20210219T220000
DTSTAMP:20260423T070950
CREATED:20210302T185451Z
LAST-MODIFIED:20210302T185451Z
UID:13466-1613761200-1613772000@colleenlloy.com
SUMMARY:Tru Blues House of Wings
DESCRIPTION:The crab cakes are specially made….come on out for seafood and me!
URL:https://colleenlloy.com/calendar/tru-blues-house-of-wings-3/
LOCATION:SC
END:VEVENT
END:VCALENDAR