BEGIN:VCALENDAR
VERSION:2.0
PRODID:-//COLLEEN LLOY - ECPv6.15.20//NONSGML v1.0//EN
CALSCALE:GREGORIAN
METHOD:PUBLISH
X-ORIGINAL-URL:https://colleenlloy.com
X-WR-CALDESC:Events for COLLEEN LLOY
REFRESH-INTERVAL;VALUE=DURATION:PT1H
X-Robots-Tag:noindex
X-PUBLISHED-TTL:PT1H
BEGIN:VTIMEZONE
TZID:UTC
BEGIN:STANDARD
TZOFFSETFROM:+0000
TZOFFSETTO:+0000
TZNAME:UTC
DTSTART:20200101T000000
END:STANDARD
END:VTIMEZONE
BEGIN:VEVENT
DTSTART;TZID=UTC:20210430T160000
DTEND;TZID=UTC:20210430T190000
DTSTAMP:20260422T192440
CREATED:20210307T161513Z
LAST-MODIFIED:20210307T161513Z
UID:13534-1619798400-1619809200@colleenlloy.com
SUMMARY:Tru Blues House of Wings
DESCRIPTION:
URL:https://colleenlloy.com/calendar/tru-blues-house-of-wings-7/
LOCATION:SC
END:VEVENT
END:VCALENDAR