BEGIN:VCALENDAR
VERSION:2.0
PRODID:-//COLLEEN LLOY - ECPv6.15.20//NONSGML v1.0//EN
CALSCALE:GREGORIAN
METHOD:PUBLISH
X-ORIGINAL-URL:https://colleenlloy.com
X-WR-CALDESC:Events for COLLEEN LLOY
REFRESH-INTERVAL;VALUE=DURATION:PT1H
X-Robots-Tag:noindex
X-PUBLISHED-TTL:PT1H
BEGIN:VTIMEZONE
TZID:UTC
BEGIN:STANDARD
TZOFFSETFROM:+0000
TZOFFSETTO:+0000
TZNAME:UTC
DTSTART:20200101T000000
END:STANDARD
END:VTIMEZONE
BEGIN:VEVENT
DTSTART;VALUE=DATE:20210610
DTEND;VALUE=DATE:20210615
DTSTAMP:20260422T134256
CREATED:20210307T163006Z
LAST-MODIFIED:20210307T163006Z
UID:13560-1623283200-1623715199@colleenlloy.com
SUMMARY:PRIVATE EVENTS
DESCRIPTION:NASHVILLE
URL:https://colleenlloy.com/calendar/private-events/
LOCATION:SC
END:VEVENT
END:VCALENDAR