BEGIN:VCALENDAR
VERSION:2.0
PRODID:-//COLLEEN LLOY - ECPv6.15.20//NONSGML v1.0//EN
CALSCALE:GREGORIAN
METHOD:PUBLISH
X-WR-CALNAME:COLLEEN LLOY
X-ORIGINAL-URL:https://colleenlloy.com
X-WR-CALDESC:Events for COLLEEN LLOY
REFRESH-INTERVAL;VALUE=DURATION:PT1H
X-Robots-Tag:noindex
X-PUBLISHED-TTL:PT1H
BEGIN:VTIMEZONE
TZID:UTC
BEGIN:STANDARD
TZOFFSETFROM:+0000
TZOFFSETTO:+0000
TZNAME:UTC
DTSTART:20200101T000000
END:STANDARD
END:VTIMEZONE
BEGIN:VEVENT
DTSTART;TZID=UTC:20210716T190000
DTEND;TZID=UTC:20210716T220000
DTSTAMP:20260422T120104
CREATED:20210625T215132Z
LAST-MODIFIED:20210625T215132Z
UID:13685-1626462000-1626472800@colleenlloy.com
SUMMARY:Tru Blues House of Wings
DESCRIPTION:
URL:https://colleenlloy.com/calendar/tru-blues-house-of-wings-10/
LOCATION:Tru Blues House of Wings\, 1039 Johnnie Dodd Blvd.\, Mt. Pleasant\, SC\, 29464\, United States
END:VEVENT
END:VCALENDAR