BEGIN:VCALENDAR
VERSION:2.0
PRODID:-//COLLEEN LLOY - ECPv6.15.20//NONSGML v1.0//EN
CALSCALE:GREGORIAN
METHOD:PUBLISH
X-ORIGINAL-URL:https://colleenlloy.com
X-WR-CALDESC:Events for COLLEEN LLOY
REFRESH-INTERVAL;VALUE=DURATION:PT1H
X-Robots-Tag:noindex
X-PUBLISHED-TTL:PT1H
BEGIN:VTIMEZONE
TZID:UTC
BEGIN:STANDARD
TZOFFSETFROM:+0000
TZOFFSETTO:+0000
TZNAME:UTC
DTSTART:20200101T000000
END:STANDARD
END:VTIMEZONE
BEGIN:VEVENT
DTSTART;TZID=UTC:20210730T190000
DTEND;TZID=UTC:20210730T220000
DTSTAMP:20260422T070450
CREATED:20210625T215835Z
LAST-MODIFIED:20210625T215835Z
UID:13693-1627671600-1627682400@colleenlloy.com
SUMMARY:Park Circle Coney
DESCRIPTION:
URL:https://colleenlloy.com/calendar/park-circle-coney/
LOCATION:Park Circle Coney\, 4258 Spruill Avenue\, N. Charleston\, 29405
END:VEVENT
END:VCALENDAR