BEGIN:VCALENDAR
VERSION:2.0
PRODID:-//COLLEEN LLOY - ECPv6.15.20//NONSGML v1.0//EN
CALSCALE:GREGORIAN
METHOD:PUBLISH
X-WR-CALNAME:COLLEEN LLOY
X-ORIGINAL-URL:https://colleenlloy.com
X-WR-CALDESC:Events for COLLEEN LLOY
REFRESH-INTERVAL;VALUE=DURATION:PT1H
X-Robots-Tag:noindex
X-PUBLISHED-TTL:PT1H
BEGIN:VTIMEZONE
TZID:UTC
BEGIN:STANDARD
TZOFFSETFROM:+0000
TZOFFSETTO:+0000
TZNAME:UTC
DTSTART:20200101T000000
END:STANDARD
END:VTIMEZONE
BEGIN:VEVENT
DTSTART;TZID=UTC:20210814T160000
DTEND;TZID=UTC:20210814T190000
DTSTAMP:20260422T070406
CREATED:20210307T164059Z
LAST-MODIFIED:20210307T164059Z
UID:13574-1628956800-1628967600@colleenlloy.com
SUMMARY:WATER'S EDGE
DESCRIPTION:
URL:https://colleenlloy.com/calendar/waters-edge-22/
LOCATION:SC
END:VEVENT
END:VCALENDAR