BEGIN:VCALENDAR
VERSION:2.0
PRODID:-//COLLEEN LLOY - ECPv6.15.20//NONSGML v1.0//EN
CALSCALE:GREGORIAN
METHOD:PUBLISH
X-WR-CALNAME:COLLEEN LLOY
X-ORIGINAL-URL:https://colleenlloy.com
X-WR-CALDESC:Events for COLLEEN LLOY
REFRESH-INTERVAL;VALUE=DURATION:PT1H
X-Robots-Tag:noindex
X-PUBLISHED-TTL:PT1H
BEGIN:VTIMEZONE
TZID:UTC
BEGIN:STANDARD
TZOFFSETFROM:+0000
TZOFFSETTO:+0000
TZNAME:UTC
DTSTART:20200101T000000
END:STANDARD
END:VTIMEZONE
BEGIN:VEVENT
DTSTART;TZID=UTC:20211014T180000
DTEND;TZID=UTC:20211014T210000
DTSTAMP:20260421T201416
CREATED:20211006T113133Z
LAST-MODIFIED:20211006T113133Z
UID:13719-1634234400-1634245200@colleenlloy.com
SUMMARY:The KingsTide on Daniel Island
DESCRIPTION:Join me every Thursday night 6 to 9 p.m. \n 
URL:https://colleenlloy.com/calendar/the-kingstide-on-daniel-island/
LOCATION:The Kingstide\, 32 River Landing Drive\, Daniel Island\, SC\, 29492\, United States
END:VEVENT
END:VCALENDAR