BEGIN:VCALENDAR
VERSION:2.0
PRODID:-//COLLEEN LLOY - ECPv6.15.20//NONSGML v1.0//EN
CALSCALE:GREGORIAN
METHOD:PUBLISH
X-ORIGINAL-URL:https://colleenlloy.com
X-WR-CALDESC:Events for COLLEEN LLOY
REFRESH-INTERVAL;VALUE=DURATION:PT1H
X-Robots-Tag:noindex
X-PUBLISHED-TTL:PT1H
BEGIN:VTIMEZONE
TZID:UTC
BEGIN:STANDARD
TZOFFSETFROM:+0000
TZOFFSETTO:+0000
TZNAME:UTC
DTSTART:20210101T000000
END:STANDARD
END:VTIMEZONE
BEGIN:VEVENT
DTSTART;TZID=UTC:20220107T190000
DTEND;TZID=UTC:20220107T220000
DTSTAMP:20260421T132038
CREATED:20220127T222609Z
LAST-MODIFIED:20220127T222642Z
UID:13736-1641582000-1641592800@colleenlloy.com
SUMMARY:Join me at Slightly North of Broad
DESCRIPTION:
URL:https://colleenlloy.com/calendar/join-me-at-slightly-north-of-broad/
LOCATION:Slightly North of Broad (SNOB)\, 192 E Bay Street\, Charleston\, South Carolins\, 29401
END:VEVENT
END:VCALENDAR