BEGIN:VCALENDAR
VERSION:2.0
PRODID:-//COLLEEN LLOY - ECPv6.15.20//NONSGML v1.0//EN
CALSCALE:GREGORIAN
METHOD:PUBLISH
X-WR-CALNAME:COLLEEN LLOY
X-ORIGINAL-URL:https://colleenlloy.com
X-WR-CALDESC:Events for COLLEEN LLOY
REFRESH-INTERVAL;VALUE=DURATION:PT1H
X-Robots-Tag:noindex
X-PUBLISHED-TTL:PT1H
BEGIN:VTIMEZONE
TZID:UTC
BEGIN:STANDARD
TZOFFSETFROM:+0000
TZOFFSETTO:+0000
TZNAME:UTC
DTSTART:20210101T000000
END:STANDARD
END:VTIMEZONE
BEGIN:VEVENT
DTSTART;TZID=UTC:20220414T080000
DTEND;TZID=UTC:20220418T170000
DTSTAMP:20260421T062907
CREATED:20220412T225304Z
LAST-MODIFIED:20220412T225304Z
UID:13836-1649923200-1650301200@colleenlloy.com
SUMMARY:Private Event-Nashville
DESCRIPTION:
URL:https://colleenlloy.com/calendar/private-event-nashville-2/
LOCATION:SC
END:VEVENT
END:VCALENDAR