BEGIN:VCALENDAR
VERSION:2.0
PRODID:-//COLLEEN LLOY - ECPv6.15.20//NONSGML v1.0//EN
CALSCALE:GREGORIAN
METHOD:PUBLISH
X-WR-CALNAME:COLLEEN LLOY
X-ORIGINAL-URL:https://colleenlloy.com
X-WR-CALDESC:Events for COLLEEN LLOY
REFRESH-INTERVAL;VALUE=DURATION:PT1H
X-Robots-Tag:noindex
X-PUBLISHED-TTL:PT1H
BEGIN:VTIMEZONE
TZID:UTC
BEGIN:STANDARD
TZOFFSETFROM:+0000
TZOFFSETTO:+0000
TZNAME:UTC
DTSTART:20210101T000000
END:STANDARD
END:VTIMEZONE
BEGIN:VEVENT
DTSTART;TZID=UTC:20220429T190000
DTEND;TZID=UTC:20220429T220000
DTSTAMP:20260421T043037
CREATED:20220127T225132Z
LAST-MODIFIED:20220127T225132Z
UID:13768-1651258800-1651269600@colleenlloy.com
SUMMARY:Singing at Slightly North of Broad
DESCRIPTION:
URL:https://colleenlloy.com/calendar/singing-at-slightly-north-of-broad-15/
LOCATION:Slightly North of Broad (SNOB)\, 192 E Bay Street\, Charleston\, South Carolins\, 29401
END:VEVENT
BEGIN:VEVENT
DTSTART;TZID=UTC:20220429T190000
DTEND;TZID=UTC:20220429T220000
DTSTAMP:20260421T043037
CREATED:20220420T002809Z
LAST-MODIFIED:20220420T002809Z
UID:13855-1651258800-1651269600@colleenlloy.com
SUMMARY:Slightly North of Broad
DESCRIPTION:
URL:https://colleenlloy.com/calendar/slightly-north-of-broad-20/
LOCATION:Slightly North of Broad (SNOB)\, 192 E Bay Street\, Charleston\, South Carolins\, 29401
END:VEVENT
END:VCALENDAR