BEGIN:VCALENDAR
VERSION:2.0
PRODID:-//COLLEEN LLOY - ECPv6.15.20//NONSGML v1.0//EN
CALSCALE:GREGORIAN
METHOD:PUBLISH
X-WR-CALNAME:COLLEEN LLOY
X-ORIGINAL-URL:https://colleenlloy.com
X-WR-CALDESC:Events for COLLEEN LLOY
REFRESH-INTERVAL;VALUE=DURATION:PT1H
X-Robots-Tag:noindex
X-PUBLISHED-TTL:PT1H
BEGIN:VTIMEZONE
TZID:UTC
BEGIN:STANDARD
TZOFFSETFROM:+0000
TZOFFSETTO:+0000
TZNAME:UTC
DTSTART:20210101T000000
END:STANDARD
END:VTIMEZONE
BEGIN:VEVENT
DTSTART;TZID=UTC:20220515T140000
DTEND;TZID=UTC:20220515T170000
DTSTAMP:20260421T043037
CREATED:20220409T145819Z
LAST-MODIFIED:20220429T135728Z
UID:13806-1652623200-1652634000@colleenlloy.com
SUMMARY:The Kingstide- Daniel Island
DESCRIPTION:
URL:https://colleenlloy.com/calendar/the-kingstide-daniel-island-5/
LOCATION:The Kingstide\, 32 River Landing Drive\, Daniel Island\, SC\, 29492\, United States
END:VEVENT
END:VCALENDAR