BEGIN:VCALENDAR
VERSION:2.0
PRODID:-//COLLEEN LLOY - ECPv6.15.20//NONSGML v1.0//EN
CALSCALE:GREGORIAN
METHOD:PUBLISH
X-WR-CALNAME:COLLEEN LLOY
X-ORIGINAL-URL:https://colleenlloy.com
X-WR-CALDESC:Events for COLLEEN LLOY
REFRESH-INTERVAL;VALUE=DURATION:PT1H
X-Robots-Tag:noindex
X-PUBLISHED-TTL:PT1H
BEGIN:VTIMEZONE
TZID:UTC
BEGIN:STANDARD
TZOFFSETFROM:+0000
TZOFFSETTO:+0000
TZNAME:UTC
DTSTART:20210101T000000
END:STANDARD
END:VTIMEZONE
BEGIN:VEVENT
DTSTART;TZID=UTC:20220608T170000
DTEND;TZID=UTC:20220608T210000
DTSTAMP:20260421T022717
CREATED:20220409T150730Z
LAST-MODIFIED:20220409T150730Z
UID:13815-1654707600-1654722000@colleenlloy.com
SUMMARY:Awendaw Green
DESCRIPTION:
URL:https://colleenlloy.com/calendar/awendaw-green/
LOCATION:Awendaw Green\, 4853 N Hwy 17\, Awendaw\, sc\, 29429
END:VEVENT
END:VCALENDAR