BEGIN:VCALENDAR
VERSION:2.0
PRODID:-//COLLEEN LLOY - ECPv6.15.20//NONSGML v1.0//EN
CALSCALE:GREGORIAN
METHOD:PUBLISH
X-ORIGINAL-URL:https://colleenlloy.com
X-WR-CALDESC:Events for COLLEEN LLOY
REFRESH-INTERVAL;VALUE=DURATION:PT1H
X-Robots-Tag:noindex
X-PUBLISHED-TTL:PT1H
BEGIN:VTIMEZONE
TZID:UTC
BEGIN:STANDARD
TZOFFSETFROM:+0000
TZOFFSETTO:+0000
TZNAME:UTC
DTSTART:20210101T000000
END:STANDARD
END:VTIMEZONE
BEGIN:VEVENT
DTSTART;TZID=UTC:20220813T150000
DTEND;TZID=UTC:20220813T180000
DTSTAMP:20260420T224253
CREATED:20220227T192150Z
LAST-MODIFIED:20220227T192150Z
UID:13792-1660402800-1660413600@colleenlloy.com
SUMMARY:Ghost Monkey Brewery is the place to be
DESCRIPTION:
URL:https://colleenlloy.com/calendar/ghost-monkey-brewery-is-the-place-to-be-3/
LOCATION:Ghost Monkey Brewery\, 522 Wando Lane\, Mt.Pleasant\, SC\, 29464\, United States
END:VEVENT
END:VCALENDAR