BEGIN:VCALENDAR
VERSION:2.0
PRODID:-//COLLEEN LLOY - ECPv6.15.20//NONSGML v1.0//EN
CALSCALE:GREGORIAN
METHOD:PUBLISH
X-ORIGINAL-URL:https://colleenlloy.com
X-WR-CALDESC:Events for COLLEEN LLOY
REFRESH-INTERVAL;VALUE=DURATION:PT1H
X-Robots-Tag:noindex
X-PUBLISHED-TTL:PT1H
BEGIN:VTIMEZONE
TZID:UTC
BEGIN:STANDARD
TZOFFSETFROM:+0000
TZOFFSETTO:+0000
TZNAME:UTC
DTSTART:20210101T000000
END:STANDARD
END:VTIMEZONE
BEGIN:VEVENT
DTSTART;TZID=UTC:20221001T180000
DTEND;TZID=UTC:20221001T220000
DTSTAMP:20260420T185447
CREATED:20220905T132233Z
LAST-MODIFIED:20220905T170128Z
UID:13905-1664647200-1664661600@colleenlloy.com
SUMMARY:Silver Maple House
DESCRIPTION:Silver Maple House Concert- New Eagle\, PA
URL:https://colleenlloy.com/calendar/slightly-north-of-broad-25/
LOCATION:Slightly North of Broad (SNOB)\, 192 E Bay Street\, Charleston\, South Carolins\, 29401
END:VEVENT
END:VCALENDAR