BEGIN:VCALENDAR
VERSION:2.0
PRODID:-//COLLEEN LLOY - ECPv6.15.20//NONSGML v1.0//EN
CALSCALE:GREGORIAN
METHOD:PUBLISH
X-WR-CALNAME:COLLEEN LLOY
X-ORIGINAL-URL:https://colleenlloy.com
X-WR-CALDESC:Events for COLLEEN LLOY
REFRESH-INTERVAL;VALUE=DURATION:PT1H
X-Robots-Tag:noindex
X-PUBLISHED-TTL:PT1H
BEGIN:VTIMEZONE
TZID:UTC
BEGIN:STANDARD
TZOFFSETFROM:+0000
TZOFFSETTO:+0000
TZNAME:UTC
DTSTART:20220101T000000
END:STANDARD
END:VTIMEZONE
BEGIN:VEVENT
DTSTART;TZID=UTC:20230310T190000
DTEND;TZID=UTC:20230310T220000
DTSTAMP:20260420T085008
CREATED:20230308T010127Z
LAST-MODIFIED:20230308T010127Z
UID:13959-1678474800-1678485600@colleenlloy.com
SUMMARY:Slightly North of Broad
DESCRIPTION:Join me for an evening of great music and dining. 🙂
URL:https://colleenlloy.com/calendar/slightly-north-of-broad-39/
LOCATION:Slightly North of Broad (SNOB)\, 192 E Bay Street\, Charleston\, South Carolins\, 29401
END:VEVENT
END:VCALENDAR