BEGIN:VCALENDAR
VERSION:2.0
PRODID:-//COLLEEN LLOY - ECPv6.15.20//NONSGML v1.0//EN
CALSCALE:GREGORIAN
METHOD:PUBLISH
X-WR-CALNAME:COLLEEN LLOY
X-ORIGINAL-URL:https://colleenlloy.com
X-WR-CALDESC:Events for COLLEEN LLOY
REFRESH-INTERVAL;VALUE=DURATION:PT1H
X-Robots-Tag:noindex
X-PUBLISHED-TTL:PT1H
BEGIN:VTIMEZONE
TZID:UTC
BEGIN:STANDARD
TZOFFSETFROM:+0000
TZOFFSETTO:+0000
TZNAME:UTC
DTSTART:20220101T000000
END:STANDARD
END:VTIMEZONE
BEGIN:VEVENT
DTSTART;TZID=UTC:20230525T080000
DTEND;TZID=UTC:20230531T170000
DTSTAMP:20260420T052036
CREATED:20230430T171654Z
LAST-MODIFIED:20230430T171737Z
UID:14014-1685001600-1685552400@colleenlloy.com
SUMMARY:Private Event Sacramento\, CA
DESCRIPTION:
URL:https://colleenlloy.com/calendar/private-event-sacramento-ca/
LOCATION:Private
END:VEVENT
END:VCALENDAR