BEGIN:VCALENDAR
VERSION:2.0
PRODID:-//COLLEEN LLOY - ECPv6.15.20//NONSGML v1.0//EN
CALSCALE:GREGORIAN
METHOD:PUBLISH
X-WR-CALNAME:COLLEEN LLOY
X-ORIGINAL-URL:https://colleenlloy.com
X-WR-CALDESC:Events for COLLEEN LLOY
REFRESH-INTERVAL;VALUE=DURATION:PT1H
X-Robots-Tag:noindex
X-PUBLISHED-TTL:PT1H
BEGIN:VTIMEZONE
TZID:UTC
BEGIN:STANDARD
TZOFFSETFROM:+0000
TZOFFSETTO:+0000
TZNAME:UTC
DTSTART:20220101T000000
END:STANDARD
END:VTIMEZONE
BEGIN:VEVENT
DTSTART;TZID=UTC:20230713T190000
DTEND;TZID=UTC:20230713T220000
DTSTAMP:20260420T015410
CREATED:20230430T171959Z
LAST-MODIFIED:20230430T172046Z
UID:14020-1689274800-1689285600@colleenlloy.com
SUMMARY:WHISKEY JACK'S
DESCRIPTION:
URL:https://colleenlloy.com/calendar/whiskey-jacks/
LOCATION:17 Prime Steakhouse\, 2061 Savannah Hwy\, Charleston\, SC\, 29407\, United States
END:VEVENT
END:VCALENDAR