BEGIN:VCALENDAR
VERSION:2.0
PRODID:-//COLLEEN LLOY - ECPv6.15.20//NONSGML v1.0//EN
CALSCALE:GREGORIAN
METHOD:PUBLISH
X-WR-CALNAME:COLLEEN LLOY
X-ORIGINAL-URL:https://colleenlloy.com
X-WR-CALDESC:Events for COLLEEN LLOY
REFRESH-INTERVAL;VALUE=DURATION:PT1H
X-Robots-Tag:noindex
X-PUBLISHED-TTL:PT1H
BEGIN:VTIMEZONE
TZID:UTC
BEGIN:STANDARD
TZOFFSETFROM:+0000
TZOFFSETTO:+0000
TZNAME:UTC
DTSTART:20220101T000000
END:STANDARD
END:VTIMEZONE
BEGIN:VEVENT
DTSTART;TZID=UTC:20231110T080000
DTEND;TZID=UTC:20231112T170000
DTSTAMP:20260419T185152
CREATED:20230520T170243Z
LAST-MODIFIED:20230520T170243Z
UID:14033-1699603200-1699808400@colleenlloy.com
SUMMARY:Concert of Light-Veteran's Day
DESCRIPTION:Tickets can be purchased and will update.
URL:https://colleenlloy.com/calendar/concert-of-light-veterans-day/
LOCATION:The Stodola\, 4620 Prince George Drive\, Prince George\, Virginia\, 23875
END:VEVENT
END:VCALENDAR