BEGIN:VCALENDAR
VERSION:2.0
PRODID:-//COLLEEN LLOY - ECPv6.15.20//NONSGML v1.0//EN
CALSCALE:GREGORIAN
METHOD:PUBLISH
X-ORIGINAL-URL:https://colleenlloy.com
X-WR-CALDESC:Events for COLLEEN LLOY
REFRESH-INTERVAL;VALUE=DURATION:PT1H
X-Robots-Tag:noindex
X-PUBLISHED-TTL:PT1H
BEGIN:VTIMEZONE
TZID:UTC
BEGIN:STANDARD
TZOFFSETFROM:+0000
TZOFFSETTO:+0000
TZNAME:UTC
DTSTART:20230101T000000
END:STANDARD
END:VTIMEZONE
BEGIN:VEVENT
DTSTART;TZID=UTC:20240817T123000
DTEND;TZID=UTC:20240817T150000
DTSTAMP:20260421T212723
CREATED:20240812T143428Z
LAST-MODIFIED:20240812T143428Z
UID:14911-1723897800-1723906800@colleenlloy.com
SUMMARY:Nonprofit Palooza and Striped Pig  2225 Old School Drive\, North Charleston\, SC
DESCRIPTION:Buy tickets to our brunch to meet with local leaders $25.00 11-1:00 p.m.1:00 to 3:00 p.m. Nonprofit Palooza with 50 local charities. Live Music \nI will donate my time and start 12:45-1:30 and then 2:00 to 2:45 p.m.
URL:https://colleenlloy.com/calendar/nonprofit-palooza-and-striped-pig-2225-old-school-drive-north-charleston-sc/
LOCATION:The Striped Pig\, 2225 Old School Drive\, North charleston\, SC\, 29405\, United States
END:VEVENT
END:VCALENDAR