BEGIN:VCALENDAR
VERSION:2.0
PRODID:-//COLLEEN LLOY - ECPv6.15.20//NONSGML v1.0//EN
CALSCALE:GREGORIAN
METHOD:PUBLISH
X-ORIGINAL-URL:https://colleenlloy.com
X-WR-CALDESC:Events for COLLEEN LLOY
REFRESH-INTERVAL;VALUE=DURATION:PT1H
X-Robots-Tag:noindex
X-PUBLISHED-TTL:PT1H
BEGIN:VTIMEZONE
TZID:UTC
BEGIN:STANDARD
TZOFFSETFROM:+0000
TZOFFSETTO:+0000
TZNAME:UTC
DTSTART:20240101T000000
END:STANDARD
END:VTIMEZONE
BEGIN:VEVENT
DTSTART;TZID=UTC:20250606T170000
DTEND;TZID=UTC:20250606T200000
DTSTAMP:20260422T061228
CREATED:20250601T210505Z
LAST-MODIFIED:20250601T210505Z
UID:15032-1749229200-1749240000@colleenlloy.com
SUMMARY:Debut at Coastal Crust
DESCRIPTION:come out and hang  with me.
URL:https://colleenlloy.com/calendar/debut-at-coastal-crust/
LOCATION:Coastal Crust (Mt. Pleasant)\, 219 Simmons Street\, Mt. Pleasant\, SC\, 29464\, United States
END:VEVENT
BEGIN:VEVENT
DTSTART;TZID=UTC:20250606T170000
DTEND;TZID=UTC:20250606T200000
DTSTAMP:20260422T061228
CREATED:20250602T115416Z
LAST-MODIFIED:20250602T115416Z
UID:15039-1749229200-1749240000@colleenlloy.com
SUMMARY:Coastal Crust (Mt. Pleasant)
DESCRIPTION:Debut at Coastal Crust! Come on out!
URL:https://colleenlloy.com/calendar/coastal-crust-mt-pleasant/
LOCATION:Coastal Crust (Mt. Pleasant)\, 219 Simmons Street\, Mt. Pleasant\, SC\, 29464\, United States
END:VEVENT
END:VCALENDAR