BEGIN:VCALENDAR
VERSION:2.0
PRODID:-//COLLEEN LLOY - ECPv6.15.20//NONSGML v1.0//EN
CALSCALE:GREGORIAN
METHOD:PUBLISH
X-ORIGINAL-URL:https://colleenlloy.com
X-WR-CALDESC:Events for COLLEEN LLOY
REFRESH-INTERVAL;VALUE=DURATION:PT1H
X-Robots-Tag:noindex
X-PUBLISHED-TTL:PT1H
BEGIN:VTIMEZONE
TZID:UTC
BEGIN:STANDARD
TZOFFSETFROM:+0000
TZOFFSETTO:+0000
TZNAME:UTC
DTSTART:20240101T000000
END:STANDARD
END:VTIMEZONE
BEGIN:VEVENT
DTSTART;TZID=UTC:20250829T180000
DTEND;TZID=UTC:20250829T210000
DTSTAMP:20260424T011250
CREATED:20250519T140546Z
LAST-MODIFIED:20250519T140546Z
UID:15022-1756490400-1756501200@colleenlloy.com
SUMMARY:Angel Oak Bar & Restaurant
DESCRIPTION:
URL:https://colleenlloy.com/calendar/angel-oak-bar-restaurant/
LOCATION:Angel Oak Restaurant & Bar\, 3669 Savannah Hwy\, Johns Island\, SC\, 29455\, United States
END:VEVENT
END:VCALENDAR