BEGIN:VCALENDAR
VERSION:2.0
PRODID:-//COLLEEN LLOY - ECPv6.15.20//NONSGML v1.0//EN
CALSCALE:GREGORIAN
METHOD:PUBLISH
X-WR-CALNAME:COLLEEN LLOY
X-ORIGINAL-URL:https://colleenlloy.com
X-WR-CALDESC:Events for COLLEEN LLOY
REFRESH-INTERVAL;VALUE=DURATION:PT1H
X-Robots-Tag:noindex
X-PUBLISHED-TTL:PT1H
BEGIN:VTIMEZONE
TZID:UTC
BEGIN:STANDARD
TZOFFSETFROM:+0000
TZOFFSETTO:+0000
TZNAME:UTC
DTSTART:20180101T000000
END:STANDARD
END:VTIMEZONE
BEGIN:VEVENT
DTSTART;TZID=UTC:20190104T180000
DTEND;TZID=UTC:20190104T210000
DTSTAMP:20260426T034809
CREATED:20181016T210555Z
LAST-MODIFIED:20181016T210555Z
UID:7089-1546624800-1546635600@colleenlloy.com
SUMMARY:Don Arturo's Mexican Grille
DESCRIPTION:
URL:https://colleenlloy.com/calendar/don-arturos-mexican-grille-6/
LOCATION:SC
END:VEVENT
BEGIN:VEVENT
DTSTART;TZID=UTC:20190105T180000
DTEND;TZID=UTC:20190105T220000
DTSTAMP:20260426T034809
CREATED:20190109T215650Z
LAST-MODIFIED:20190109T215650Z
UID:7141-1546711200-1546725600@colleenlloy.com
SUMMARY:Colleen Lloy and Dan Brayall at Findley's Lodge (Opryland Resort)
DESCRIPTION:
URL:https://colleenlloy.com/calendar/colleen-lloy-and-dan-brayall-at-findleys-lodge-opryland-resort/
LOCATION:SC
END:VEVENT
BEGIN:VEVENT
DTSTART;VALUE=DATE:20190112
DTEND;VALUE=DATE:20190121
DTSTAMP:20260426T034809
CREATED:20180919T221206Z
LAST-MODIFIED:20180919T221206Z
UID:7073-1547251200-1548028799@colleenlloy.com
SUMMARY:Private Event *Exuma\, Bahamas
DESCRIPTION:
URL:https://colleenlloy.com/calendar/private-event-exuma-bahamas/
LOCATION:SC
END:VEVENT
BEGIN:VEVENT
DTSTART;TZID=UTC:20190123T180000
DTEND;TZID=UTC:20190123T220000
DTSTAMP:20260426T034809
CREATED:20190109T215827Z
LAST-MODIFIED:20190109T215827Z
UID:7143-1548266400-1548280800@colleenlloy.com
SUMMARY:Dan Brayall and Colleen Lloy at Findley's Lodge (Opryland Resort)
DESCRIPTION:
URL:https://colleenlloy.com/calendar/dan-brayall-and-colleen-lloy-at-findleys-lodge-opryland-resort/
LOCATION:SC
END:VEVENT
BEGIN:VEVENT
DTSTART;TZID=UTC:20190125T180000
DTEND;TZID=UTC:20190125T210000
DTSTAMP:20260426T034809
CREATED:20181218T205703Z
LAST-MODIFIED:20181218T205703Z
UID:7104-1548439200-1548450000@colleenlloy.com
SUMMARY:Don Arturo's Mexican Grill
DESCRIPTION:
URL:https://colleenlloy.com/calendar/don-arturos-mexican-grill-69/
LOCATION:SC
END:VEVENT
END:VCALENDAR