BEGIN:VCALENDAR
VERSION:2.0
PRODID:-//COLLEEN LLOY - ECPv6.15.20//NONSGML v1.0//EN
CALSCALE:GREGORIAN
METHOD:PUBLISH
X-ORIGINAL-URL:https://colleenlloy.com
X-WR-CALDESC:Events for COLLEEN LLOY
REFRESH-INTERVAL;VALUE=DURATION:PT1H
X-Robots-Tag:noindex
X-PUBLISHED-TTL:PT1H
BEGIN:VTIMEZONE
TZID:UTC
BEGIN:STANDARD
TZOFFSETFROM:+0000
TZOFFSETTO:+0000
TZNAME:UTC
DTSTART:20180101T000000
END:STANDARD
END:VTIMEZONE
BEGIN:VEVENT
DTSTART;TZID=UTC:20190301T180000
DTEND;TZID=UTC:20190301T210000
DTSTAMP:20260425T222627
CREATED:20181218T210314Z
LAST-MODIFIED:20181218T210314Z
UID:7114-1551463200-1551474000@colleenlloy.com
SUMMARY:Don Arturo's Mexican Grill
DESCRIPTION:
URL:https://colleenlloy.com/calendar/don-arturos-mexican-grill-74/
LOCATION:SC
END:VEVENT
BEGIN:VEVENT
DTSTART;TZID=UTC:20190308T180000
DTEND;TZID=UTC:20190308T210000
DTSTAMP:20260425T222627
CREATED:20181218T210354Z
LAST-MODIFIED:20181218T210354Z
UID:7116-1552068000-1552078800@colleenlloy.com
SUMMARY:Don Arturo's Mexican Grill
DESCRIPTION:
URL:https://colleenlloy.com/calendar/don-arturos-mexican-grill-75/
LOCATION:SC
END:VEVENT
BEGIN:VEVENT
DTSTART;TZID=UTC:20190315T180000
DTEND;TZID=UTC:20190315T210000
DTSTAMP:20260425T222627
CREATED:20181218T210443Z
LAST-MODIFIED:20181218T210443Z
UID:7118-1552672800-1552683600@colleenlloy.com
SUMMARY:Don Arturo's Mexican Grill
DESCRIPTION:
URL:https://colleenlloy.com/calendar/don-arturos-mexican-grill-76/
LOCATION:SC
END:VEVENT
BEGIN:VEVENT
DTSTART;TZID=UTC:20190316T173000
DTEND;TZID=UTC:20190316T203000
DTSTAMP:20260425T222627
CREATED:20181218T210713Z
LAST-MODIFIED:20181218T210713Z
UID:7124-1552757400-1552768200@colleenlloy.com
SUMMARY:Hanks in the Boro
DESCRIPTION:
URL:https://colleenlloy.com/calendar/hanks-in-the-boro-6/
LOCATION:SC
END:VEVENT
BEGIN:VEVENT
DTSTART;TZID=UTC:20190322T180000
DTEND;TZID=UTC:20190322T210000
DTSTAMP:20260425T222627
CREATED:20181218T210522Z
LAST-MODIFIED:20181218T210522Z
UID:7120-1553277600-1553288400@colleenlloy.com
SUMMARY:Don Arturo's Mexican Grill
DESCRIPTION:
URL:https://colleenlloy.com/calendar/don-arturos-mexican-grill-77/
LOCATION:SC
END:VEVENT
BEGIN:VEVENT
DTSTART;TZID=UTC:20190327T080000
DTEND;TZID=UTC:20190330T170000
DTSTAMP:20260425T222627
CREATED:20181218T205158Z
LAST-MODIFIED:20181218T205158Z
UID:7100-1553673600-1553965200@colleenlloy.com
SUMMARY:Songs on the Bayou Festival
DESCRIPTION:TO BE ANNOUNCED
URL:https://colleenlloy.com/calendar/songs-on-the-bayou-festival-2/
LOCATION:SC
END:VEVENT
BEGIN:VEVENT
DTSTART;TZID=UTC:20190329T180000
DTEND;TZID=UTC:20190329T210000
DTSTAMP:20260425T222627
CREATED:20181218T210606Z
LAST-MODIFIED:20181218T210606Z
UID:7122-1553882400-1553893200@colleenlloy.com
SUMMARY:Don Arturo's Mexican Grill
DESCRIPTION:
URL:https://colleenlloy.com/calendar/don-arturos-mexican-grill-78/
LOCATION:SC
END:VEVENT
END:VCALENDAR