BEGIN:VCALENDAR
VERSION:2.0
PRODID:-//COLLEEN LLOY - ECPv6.15.20//NONSGML v1.0//EN
CALSCALE:GREGORIAN
METHOD:PUBLISH
X-WR-CALNAME:COLLEEN LLOY
X-ORIGINAL-URL:https://colleenlloy.com
X-WR-CALDESC:Events for COLLEEN LLOY
REFRESH-INTERVAL;VALUE=DURATION:PT1H
X-Robots-Tag:noindex
X-PUBLISHED-TTL:PT1H
BEGIN:VTIMEZONE
TZID:UTC
BEGIN:STANDARD
TZOFFSETFROM:+0000
TZOFFSETTO:+0000
TZNAME:UTC
DTSTART:20180101T000000
END:STANDARD
END:VTIMEZONE
BEGIN:VEVENT
DTSTART;TZID=UTC:20190405T180000
DTEND;TZID=UTC:20190405T210000
DTSTAMP:20260425T184301
CREATED:20181218T211000Z
LAST-MODIFIED:20181218T211000Z
UID:7128-1554487200-1554498000@colleenlloy.com
SUMMARY:Don Arturo's Mexican Grill
DESCRIPTION:
URL:https://colleenlloy.com/calendar/don-arturos-mexican-grill-79/
LOCATION:SC
END:VEVENT
BEGIN:VEVENT
DTSTART;TZID=UTC:20190406T170000
DTEND;TZID=UTC:20190406T220000
DTSTAMP:20260425T184301
CREATED:20180619T175446Z
LAST-MODIFIED:20180619T175446Z
UID:6994-1554570000-1554588000@colleenlloy.com
SUMMARY:Let Us Never Forget (honoring our fallen)
DESCRIPTION:
URL:https://colleenlloy.com/calendar/let-us-never-forget-honoring-our-fallen/
LOCATION:SC
END:VEVENT
BEGIN:VEVENT
DTSTART;TZID=UTC:20190412T180000
DTEND;TZID=UTC:20190412T210000
DTSTAMP:20260425T184301
CREATED:20181218T211042Z
LAST-MODIFIED:20181218T211042Z
UID:7130-1555092000-1555102800@colleenlloy.com
SUMMARY:Don Arturo's Mexican Grill
DESCRIPTION:
URL:https://colleenlloy.com/calendar/don-arturos-mexican-grill-80/
LOCATION:SC
END:VEVENT
BEGIN:VEVENT
DTSTART;TZID=UTC:20190419T180000
DTEND;TZID=UTC:20190419T210000
DTSTAMP:20260425T184301
CREATED:20181218T211127Z
LAST-MODIFIED:20181218T211127Z
UID:7132-1555696800-1555707600@colleenlloy.com
SUMMARY:Don Arturo's Mexican Grill
DESCRIPTION:
URL:https://colleenlloy.com/calendar/don-arturos-mexican-grill-81/
LOCATION:SC
END:VEVENT
BEGIN:VEVENT
DTSTART;TZID=UTC:20190420T173000
DTEND;TZID=UTC:20190420T203000
DTSTAMP:20260425T184301
CREATED:20181218T210809Z
LAST-MODIFIED:20181218T210809Z
UID:7126-1555781400-1555792200@colleenlloy.com
SUMMARY:Hanks in the Boro
DESCRIPTION:
URL:https://colleenlloy.com/calendar/hanks-in-the-boro-7/
LOCATION:SC
END:VEVENT
BEGIN:VEVENT
DTSTART;VALUE=DATE:20190426
DTEND;VALUE=DATE:20190428
DTSTAMP:20260425T184301
CREATED:20190226T221052Z
LAST-MODIFIED:20190226T221052Z
UID:7145-1556236800-1556409599@colleenlloy.com
SUMMARY:Horse Pens 40 HP40 Songwriter Festival
DESCRIPTION:12:00 to 2:00 pm is the Last Honky Tonk Music Series round with Brigitte London\, Colleen Lloy\, Sadie McClendon\, Kevin Swanson\, Evan Walker and Jarrod Nicols \n2:00-3:00 pm Kelly McKee and Zachary Thomas Diedrich \n3:00-4:00 pm Megan T. McMillan & Cass Hunter \n4:00-5:00 pm Christina Christian\, Nick Bibricher\, Taylor Craven \n5:00-6:00 pm Double D \n6:00-8:00 Matt Hoggatt and Johnny Mire \n8:00- 11:00 Will Kimbrough \n11:00 All Star Jam
URL:https://colleenlloy.com/calendar/horse-pens-40-hp40-songwriter-festival/
LOCATION:SC
END:VEVENT
END:VCALENDAR