BEGIN:VCALENDAR
VERSION:2.0
PRODID:-//COLLEEN LLOY - ECPv6.15.20//NONSGML v1.0//EN
CALSCALE:GREGORIAN
METHOD:PUBLISH
X-WR-CALNAME:COLLEEN LLOY
X-ORIGINAL-URL:https://colleenlloy.com
X-WR-CALDESC:Events for COLLEEN LLOY
REFRESH-INTERVAL;VALUE=DURATION:PT1H
X-Robots-Tag:noindex
X-PUBLISHED-TTL:PT1H
BEGIN:VTIMEZONE
TZID:UTC
BEGIN:STANDARD
TZOFFSETFROM:+0000
TZOFFSETTO:+0000
TZNAME:UTC
DTSTART:20180101T000000
END:STANDARD
END:VTIMEZONE
BEGIN:VEVENT
DTSTART;TZID=UTC:20190607T173000
DTEND;TZID=UTC:20190607T203000
DTSTAMP:20260425T131234
CREATED:20190405T201342Z
LAST-MODIFIED:20190405T201342Z
UID:7163-1559928600-1559939400@colleenlloy.com
SUMMARY:Don Arturo's Mexican Grill
DESCRIPTION:
URL:https://colleenlloy.com/calendar/don-arturos-mexican-grill-86/
LOCATION:SC
END:VEVENT
BEGIN:VEVENT
DTSTART;TZID=UTC:20190608T180000
DTEND;TZID=UTC:20190608T220000
DTSTAMP:20260425T131234
CREATED:20190515T215621Z
LAST-MODIFIED:20190515T215621Z
UID:7223-1560016800-1560031200@colleenlloy.com
SUMMARY:Colleen Lloy and Dan Brayall at Findley's in Opryland Resort
DESCRIPTION:
URL:https://colleenlloy.com/calendar/colleen-lloy-and-dan-brayall-at-findleys-in-opryland-resort/
LOCATION:SC
END:VEVENT
BEGIN:VEVENT
DTSTART;TZID=UTC:20190614T200000
DTEND;TZID=UTC:20190614T200000
DTSTAMP:20260425T131234
CREATED:20190515T215731Z
LAST-MODIFIED:20190515T215731Z
UID:7225-1560542400-1560542400@colleenlloy.com
SUMMARY:Colleen Lloy and Dan Brayall at Jack Daniel's in Opryland Resort
DESCRIPTION:
URL:https://colleenlloy.com/calendar/colleen-lloy-and-dan-brayall-at-jack-daniels-in-opryland-resort/
LOCATION:SC
END:VEVENT
BEGIN:VEVENT
DTSTART;TZID=UTC:20190621T173000
DTEND;TZID=UTC:20190621T203000
DTSTAMP:20260425T131234
CREATED:20190405T201541Z
LAST-MODIFIED:20190405T201541Z
UID:7167-1561138200-1561149000@colleenlloy.com
SUMMARY:Don Arturo's Mexican Grill
DESCRIPTION:
URL:https://colleenlloy.com/calendar/don-arturos-mexican-grill-88/
LOCATION:SC
END:VEVENT
BEGIN:VEVENT
DTSTART;TZID=UTC:20190622T173000
DTEND;TZID=UTC:20190622T203000
DTSTAMP:20260425T131234
CREATED:20190405T201622Z
LAST-MODIFIED:20190405T201622Z
UID:7169-1561224600-1561235400@colleenlloy.com
SUMMARY:Hank's in the Boro
DESCRIPTION:
URL:https://colleenlloy.com/calendar/hanks-in-the-boro-8/
LOCATION:SC
END:VEVENT
BEGIN:VEVENT
DTSTART;TZID=UTC:20190628T173000
DTEND;TZID=UTC:20190628T203000
DTSTAMP:20260425T131234
CREATED:20190405T201706Z
LAST-MODIFIED:20190405T201706Z
UID:7171-1561743000-1561753800@colleenlloy.com
SUMMARY:Don Arturo's Mexican Grill
DESCRIPTION:
URL:https://colleenlloy.com/calendar/don-arturos-mexican-grill-89/
LOCATION:SC
END:VEVENT
BEGIN:VEVENT
DTSTART;TZID=UTC:20190629T180000
DTEND;TZID=UTC:20190629T220000
DTSTAMP:20260425T131234
CREATED:20190515T215807Z
LAST-MODIFIED:20190515T215807Z
UID:7227-1561831200-1561845600@colleenlloy.com
SUMMARY:Colleen Lloy and Dan Brayall at Findley's in Opryland Resort
DESCRIPTION:
URL:https://colleenlloy.com/calendar/colleen-lloy-and-dan-brayall-at-findleys-in-opryland-resort-2/
LOCATION:SC
END:VEVENT
END:VCALENDAR