BEGIN:VCALENDAR
VERSION:2.0
PRODID:-//COLLEEN LLOY - ECPv6.15.20//NONSGML v1.0//EN
CALSCALE:GREGORIAN
METHOD:PUBLISH
X-WR-CALNAME:COLLEEN LLOY
X-ORIGINAL-URL:https://colleenlloy.com
X-WR-CALDESC:Events for COLLEEN LLOY
REFRESH-INTERVAL;VALUE=DURATION:PT1H
X-Robots-Tag:noindex
X-PUBLISHED-TTL:PT1H
BEGIN:VTIMEZONE
TZID:UTC
BEGIN:STANDARD
TZOFFSETFROM:+0000
TZOFFSETTO:+0000
TZNAME:UTC
DTSTART:20180101T000000
END:STANDARD
END:VTIMEZONE
BEGIN:VEVENT
DTSTART;TZID=UTC:20190703T180000
DTEND;TZID=UTC:20190703T220000
DTSTAMP:20260425T112112
CREATED:20190617T205702Z
LAST-MODIFIED:20190617T205702Z
UID:7244-1562176800-1562191200@colleenlloy.com
SUMMARY:Colleen Lloy and Dan Brayall at Findley's in Opryland
DESCRIPTION:Come on out and enjoy some great food and music with spirits. 🙂
URL:https://colleenlloy.com/calendar/colleen-lloy-and-dan-brayall-at-findleys-in-opryland/
LOCATION:SC
END:VEVENT
BEGIN:VEVENT
DTSTART;TZID=UTC:20190705T173000
DTEND;TZID=UTC:20190705T203000
DTSTAMP:20260425T112112
CREATED:20190405T201832Z
LAST-MODIFIED:20190405T201832Z
UID:7174-1562347800-1562358600@colleenlloy.com
SUMMARY:Don Arturo's Mexican Grill
DESCRIPTION:
URL:https://colleenlloy.com/calendar/don-arturos-mexican-grill-90/
LOCATION:SC
END:VEVENT
BEGIN:VEVENT
DTSTART;TZID=UTC:20190712T173000
DTEND;TZID=UTC:20190712T203000
DTSTAMP:20260425T112112
CREATED:20190405T201921Z
LAST-MODIFIED:20190405T201921Z
UID:7176-1562952600-1562963400@colleenlloy.com
SUMMARY:Don Arturo's Mexican Grill
DESCRIPTION:
URL:https://colleenlloy.com/calendar/don-arturos-mexican-grill-91/
LOCATION:SC
END:VEVENT
BEGIN:VEVENT
DTSTART;TZID=UTC:20190713T180000
DTEND;TZID=UTC:20190713T213000
DTSTAMP:20260425T112112
CREATED:20190507T142936Z
LAST-MODIFIED:20190507T142936Z
UID:7212-1563040800-1563053400@colleenlloy.com
SUMMARY:Join me at Silver Maple House Concert!!!!
DESCRIPTION:This will be my first performance at this intimate setting in New Eagle\, Pennsylvania at the Silver Maple House Concert! 🙂
URL:https://colleenlloy.com/calendar/join-me-at-silver-maple-house-concert/
LOCATION:SC
END:VEVENT
BEGIN:VEVENT
DTSTART;TZID=UTC:20190718T180000
DTEND;TZID=UTC:20190718T220000
DTSTAMP:20260425T112112
CREATED:20190718T214129Z
LAST-MODIFIED:20190718T214129Z
UID:7267-1563472800-1563487200@colleenlloy.com
SUMMARY:6th Annual Broken Spoke Reunion
DESCRIPTION:Come on out and see all the songwriters who graced the stage at the Broken Spoke. Say hello to Lee and Lee as well as Donna who put this shindig together. 🙂
URL:https://colleenlloy.com/calendar/6th-annual-broken-spoke-reunion/
LOCATION:SC
END:VEVENT
BEGIN:VEVENT
DTSTART;TZID=UTC:20190720T080000
DTEND;TZID=UTC:20190720T170000
DTSTAMP:20260425T112112
CREATED:20190507T143247Z
LAST-MODIFIED:20190507T143247Z
UID:7216-1563609600-1563642000@colleenlloy.com
SUMMARY:First time at FLORA-BAMA!!!
DESCRIPTION:Heading to the beach peeps! Join me at Flora-Bama time to be determined.
URL:https://colleenlloy.com/calendar/first-time-at-flora-bama/
LOCATION:SC
END:VEVENT
BEGIN:VEVENT
DTSTART;TZID=UTC:20190722T210000
DTEND;TZID=UTC:20190722T210000
DTSTAMP:20260425T112112
CREATED:20190617T205805Z
LAST-MODIFIED:20190617T205805Z
UID:7246-1563829200-1563829200@colleenlloy.com
SUMMARY:Colleen Lloy and Dan Brayall at Jack Daniel's in Opryland
DESCRIPTION:
URL:https://colleenlloy.com/calendar/colleen-lloy-and-dan-brayall-at-jack-daniels-in-opryland/
LOCATION:SC
END:VEVENT
BEGIN:VEVENT
DTSTART;TZID=UTC:20190724T200000
DTEND;TZID=UTC:20190724T203000
DTSTAMP:20260425T112112
CREATED:20190718T185915Z
LAST-MODIFIED:20190718T185915Z
UID:7256-1563998400-1564000200@colleenlloy.com
SUMMARY:Pam Belford and I at the Commodore Grille
DESCRIPTION:Pam has graciously asked me to share the featured writer spot at the Commodore Grille with her!
URL:https://colleenlloy.com/calendar/pam-belford-and-i-at-the-commodore-grille/
LOCATION:SC
END:VEVENT
BEGIN:VEVENT
DTSTART;TZID=UTC:20190726T173000
DTEND;TZID=UTC:20190726T203000
DTSTAMP:20260425T112112
CREATED:20190405T202711Z
LAST-MODIFIED:20190405T202711Z
UID:7183-1564162200-1564173000@colleenlloy.com
SUMMARY:Don Arturo's Mexican Grill
DESCRIPTION:
URL:https://colleenlloy.com/calendar/don-arturos-mexican-grill-93/
LOCATION:SC
END:VEVENT
BEGIN:VEVENT
DTSTART;TZID=UTC:20190727T180000
DTEND;TZID=UTC:20190727T220000
DTSTAMP:20260425T112112
CREATED:20190617T205901Z
LAST-MODIFIED:20190617T205901Z
UID:7248-1564250400-1564264800@colleenlloy.com
SUMMARY:Colleen Lloy and Dan Brayall at Findley's in Opryland
DESCRIPTION:
URL:https://colleenlloy.com/calendar/colleen-lloy-and-dan-brayall-at-findleys-in-opryland-2/
LOCATION:SC
END:VEVENT
END:VCALENDAR