BEGIN:VCALENDAR
VERSION:2.0
PRODID:-//COLLEEN LLOY - ECPv6.15.20//NONSGML v1.0//EN
CALSCALE:GREGORIAN
METHOD:PUBLISH
X-WR-CALNAME:COLLEEN LLOY
X-ORIGINAL-URL:https://colleenlloy.com
X-WR-CALDESC:Events for COLLEEN LLOY
REFRESH-INTERVAL;VALUE=DURATION:PT1H
X-Robots-Tag:noindex
X-PUBLISHED-TTL:PT1H
BEGIN:VTIMEZONE
TZID:UTC
BEGIN:STANDARD
TZOFFSETFROM:+0000
TZOFFSETTO:+0000
TZNAME:UTC
DTSTART:20180101T000000
END:STANDARD
END:VTIMEZONE
BEGIN:VEVENT
DTSTART;VALUE=DATE:20191102
DTEND;VALUE=DATE:20191103
DTSTAMP:20260425T015243
CREATED:20190612T220709Z
LAST-MODIFIED:20190612T220709Z
UID:7238-1572652800-1572739199@colleenlloy.com
SUMMARY:Concert of Light with the Last Honkytonk Music Series
DESCRIPTION:Join us at the Beacon Theatre
URL:https://colleenlloy.com/calendar/concert-of-light-with-the-last-honkytonk-music-series/
LOCATION:SC
END:VEVENT
BEGIN:VEVENT
DTSTART;TZID=UTC:20191107T220000
DTEND;TZID=UTC:20191111T230000
DTSTAMP:20260425T015243
CREATED:20190612T221127Z
LAST-MODIFIED:20190612T221127Z
UID:7240-1573164000-1573513200@colleenlloy.com
SUMMARY:Flora-Bama Dome
DESCRIPTION:Jonathan Puzan\, Elaine Petty and myself will be at the Dome Room in Flora-Bama.
URL:https://colleenlloy.com/calendar/frank-brown-international-songwriter-festival/
LOCATION:SC
END:VEVENT
BEGIN:VEVENT
DTSTART;TZID=UTC:20191108T080000
DTEND;TZID=UTC:20191108T170000
DTSTAMP:20260425T015243
CREATED:20191104T142747Z
LAST-MODIFIED:20191104T142747Z
UID:8480-1573200000-1573232400@colleenlloy.com
SUMMARY:The Purple Parrot
DESCRIPTION:Join me at the Purple Parrot at 6:00 p.m. \n 
URL:https://colleenlloy.com/calendar/the-purple-parrot/
LOCATION:SC
END:VEVENT
BEGIN:VEVENT
DTSTART;TZID=UTC:20191108T150000
DTEND;TZID=UTC:20191108T160000
DTSTAMP:20260425T015243
CREATED:20191104T142316Z
LAST-MODIFIED:20191104T142316Z
UID:8477-1573225200-1573228800@colleenlloy.com
SUMMARY:Flora-Bama Main Room
DESCRIPTION:Join Chris Canterbury\, Christina Christian and me at 3:00 p.m.
URL:https://colleenlloy.com/calendar/flora-bama-main-room/
LOCATION:SC
END:VEVENT
BEGIN:VEVENT
DTSTART;TZID=UTC:20191109T120000
DTEND;TZID=UTC:20191109T130000
DTSTAMP:20260425T015243
CREATED:20191104T143123Z
LAST-MODIFIED:20191104T143123Z
UID:8483-1573300800-1573304400@colleenlloy.com
SUMMARY:Join Joe Allen\, Brigitte London and myself The Point Restaurant
DESCRIPTION:850) 492-3577850) 492-3577850) 492-3577
URL:https://colleenlloy.com/calendar/join-joe-allen-brigitte-london-and-myself-the-point-restaurant/
LOCATION:SC
END:VEVENT
BEGIN:VEVENT
DTSTART;TZID=UTC:20191109T190000
DTEND;TZID=UTC:20191109T200000
DTSTAMP:20260425T015243
CREATED:20191104T143735Z
LAST-MODIFIED:20191104T143735Z
UID:8486-1573326000-1573329600@colleenlloy.com
SUMMARY:Flora-Bama Grill with Donna Slater and myself
DESCRIPTION:Yee haw~!
URL:https://colleenlloy.com/calendar/flora-bama-grill-with-donna-slater-and-myself/
LOCATION:SC
END:VEVENT
BEGIN:VEVENT
DTSTART;TZID=UTC:20191115T180000
DTEND;TZID=UTC:20191115T210000
DTSTAMP:20260425T015243
CREATED:20190813T153800Z
LAST-MODIFIED:20190813T153800Z
UID:7301-1573840800-1573851600@colleenlloy.com
SUMMARY:Don Arturos Mexican Grill
DESCRIPTION:
URL:https://colleenlloy.com/calendar/don-arturos-mexican-grill-97/
LOCATION:SC
END:VEVENT
BEGIN:VEVENT
DTSTART;TZID=UTC:20191116T173000
DTEND;TZID=UTC:20191116T203000
DTSTAMP:20260425T015244
CREATED:20190813T153847Z
LAST-MODIFIED:20190813T153847Z
UID:7303-1573925400-1573936200@colleenlloy.com
SUMMARY:Colleen Lloy at Hanks in the Boro
DESCRIPTION:
URL:https://colleenlloy.com/calendar/colleen-lloy-at-hanks-in-the-boro-2/
LOCATION:SC
END:VEVENT
BEGIN:VEVENT
DTSTART;TZID=UTC:20191123T180000
DTEND;TZID=UTC:20191123T220000
DTSTAMP:20260425T015244
CREATED:20191022T173721Z
LAST-MODIFIED:20191022T173721Z
UID:8289-1574532000-1574546400@colleenlloy.com
SUMMARY:Dan Brayall and Colleen Lloy at Findley's in Opryland
DESCRIPTION:
URL:https://colleenlloy.com/calendar/dan-brayall-and-colleen-lloy-at-findleys-in-opryland/
LOCATION:SC
END:VEVENT
END:VCALENDAR