BEGIN:VCALENDAR
VERSION:2.0
PRODID:-//COLLEEN LLOY - ECPv6.15.20//NONSGML v1.0//EN
CALSCALE:GREGORIAN
METHOD:PUBLISH
X-WR-CALNAME:COLLEEN LLOY
X-ORIGINAL-URL:https://colleenlloy.com
X-WR-CALDESC:Events for COLLEEN LLOY
REFRESH-INTERVAL;VALUE=DURATION:PT1H
X-Robots-Tag:noindex
X-PUBLISHED-TTL:PT1H
BEGIN:VTIMEZONE
TZID:UTC
BEGIN:STANDARD
TZOFFSETFROM:+0000
TZOFFSETTO:+0000
TZNAME:UTC
DTSTART:20180101T000000
END:STANDARD
END:VTIMEZONE
BEGIN:VEVENT
DTSTART;TZID=UTC:20191206T180000
DTEND;TZID=UTC:20191206T210000
DTSTAMP:20260425T000518
CREATED:20190813T154228Z
LAST-MODIFIED:20190813T154228Z
UID:7311-1575655200-1575666000@colleenlloy.com
SUMMARY:Don Arturo's Mexican Grill
DESCRIPTION:
URL:https://colleenlloy.com/calendar/don-arturos-mexican-grill-102/
LOCATION:SC
END:VEVENT
BEGIN:VEVENT
DTSTART;TZID=UTC:20191207T180000
DTEND;TZID=UTC:20191207T220000
DTSTAMP:20260425T000518
CREATED:20191022T173912Z
LAST-MODIFIED:20191022T173912Z
UID:8293-1575741600-1575756000@colleenlloy.com
SUMMARY:Dan Brayall and Colleen Lloy at Findley's in Opryland
DESCRIPTION:
URL:https://colleenlloy.com/calendar/dan-brayall-and-colleen-lloy-at-findleys-in-opryland-3/
LOCATION:SC
END:VEVENT
BEGIN:VEVENT
DTSTART;TZID=UTC:20191218T080000
DTEND;TZID=UTC:20191224T170000
DTSTAMP:20260425T000518
CREATED:20190405T202123Z
LAST-MODIFIED:20190405T202123Z
UID:7180-1576656000-1577206800@colleenlloy.com
SUMMARY:Exuma\, The Bahamas TBD
DESCRIPTION:VENUES TO BE DETERMINED
URL:https://colleenlloy.com/calendar/exuma-the-bahamas-tbd/
LOCATION:SC
END:VEVENT
BEGIN:VEVENT
DTSTART;TZID=UTC:20191227T180000
DTEND;TZID=UTC:20191227T210000
DTSTAMP:20260425T000518
CREATED:20190813T154320Z
LAST-MODIFIED:20190813T154320Z
UID:7313-1577469600-1577480400@colleenlloy.com
SUMMARY:Don Arturo's Mexican Grill
DESCRIPTION:
URL:https://colleenlloy.com/calendar/don-arturos-mexican-grill-103/
LOCATION:SC
END:VEVENT
BEGIN:VEVENT
DTSTART;TZID=UTC:20191229T180000
DTEND;TZID=UTC:20191229T220000
DTSTAMP:20260425T000518
CREATED:20191022T174017Z
LAST-MODIFIED:20191022T174017Z
UID:8295-1577642400-1577656800@colleenlloy.com
SUMMARY:Dan Brayall and Colleen Lloy at Findley's in Opryland
DESCRIPTION:
URL:https://colleenlloy.com/calendar/dan-brayall-and-colleen-lloy-at-findleys-in-opryland-4/
LOCATION:SC
END:VEVENT
END:VCALENDAR