BEGIN:VCALENDAR
VERSION:2.0
PRODID:-//COLLEEN LLOY - ECPv6.15.20//NONSGML v1.0//EN
CALSCALE:GREGORIAN
METHOD:PUBLISH
X-WR-CALNAME:COLLEEN LLOY
X-ORIGINAL-URL:https://colleenlloy.com
X-WR-CALDESC:Events for COLLEEN LLOY
REFRESH-INTERVAL;VALUE=DURATION:PT1H
X-Robots-Tag:noindex
X-PUBLISHED-TTL:PT1H
BEGIN:VTIMEZONE
TZID:UTC
BEGIN:STANDARD
TZOFFSETFROM:+0000
TZOFFSETTO:+0000
TZNAME:UTC
DTSTART:20190101T000000
END:STANDARD
END:VTIMEZONE
BEGIN:VEVENT
DTSTART;TZID=UTC:20200130T080000
DTEND;TZID=UTC:20200202T170000
DTSTAMP:20260424T183051
CREATED:20200113T210235Z
LAST-MODIFIED:20200113T210235Z
UID:9656-1580371200-1580662800@colleenlloy.com
SUMMARY:TBA-New Orleans/Morgan City\, LA
DESCRIPTION:
URL:https://colleenlloy.com/calendar/tba-new-orleans-morgan-city-la/
LOCATION:SC
END:VEVENT
BEGIN:VEVENT
DTSTART;TZID=UTC:20200207T173000
DTEND;TZID=UTC:20200207T210000
DTSTAMP:20260424T183051
CREATED:20200113T210354Z
LAST-MODIFIED:20200113T210354Z
UID:9658-1581096600-1581109200@colleenlloy.com
SUMMARY:Don Arturo's Mexican Grill
DESCRIPTION:Join me for some great fun!
URL:https://colleenlloy.com/calendar/don-arturos-mexican-grill-101/
LOCATION:SC
END:VEVENT
BEGIN:VEVENT
DTSTART;TZID=UTC:20200215T173000
DTEND;TZID=UTC:20200215T203000
DTSTAMP:20260424T183051
CREATED:20191126T204420Z
LAST-MODIFIED:20191126T204420Z
UID:8811-1581787800-1581798600@colleenlloy.com
SUMMARY:Hank's in the Boro
DESCRIPTION:
URL:https://colleenlloy.com/calendar/hanks-in-the-boro-12/
LOCATION:SC
END:VEVENT
BEGIN:VEVENT
DTSTART;TZID=UTC:20200221T173000
DTEND;TZID=UTC:20200221T210000
DTSTAMP:20260424T183051
CREATED:20200113T210452Z
LAST-MODIFIED:20200113T210452Z
UID:9660-1582306200-1582318800@colleenlloy.com
SUMMARY:Don Arturo's Mexican Grill
DESCRIPTION:
URL:https://colleenlloy.com/calendar/don-arturos-mexican-grill-104/
LOCATION:SC
END:VEVENT
BEGIN:VEVENT
DTSTART;VALUE=DATE:20200226
DTEND;VALUE=DATE:20200304
DTSTAMP:20260424T183051
CREATED:20200206T193632Z
LAST-MODIFIED:20200206T193632Z
UID:10198-1582675200-1583279999@colleenlloy.com
SUMMARY:California (TBA)
DESCRIPTION:
URL:https://colleenlloy.com/calendar/california-tba/
LOCATION:SC
END:VEVENT
END:VCALENDAR