BEGIN:VCALENDAR
VERSION:2.0
PRODID:-//COLLEEN LLOY - ECPv6.15.20//NONSGML v1.0//EN
CALSCALE:GREGORIAN
METHOD:PUBLISH
X-WR-CALNAME:COLLEEN LLOY
X-ORIGINAL-URL:https://colleenlloy.com
X-WR-CALDESC:Events for COLLEEN LLOY
REFRESH-INTERVAL;VALUE=DURATION:PT1H
X-Robots-Tag:noindex
X-PUBLISHED-TTL:PT1H
BEGIN:VTIMEZONE
TZID:UTC
BEGIN:STANDARD
TZOFFSETFROM:+0000
TZOFFSETTO:+0000
TZNAME:UTC
DTSTART:20190101T000000
END:STANDARD
END:VTIMEZONE
BEGIN:VEVENT
DTSTART;TZID=UTC:20200822T190000
DTEND;TZID=UTC:20200822T220000
DTSTAMP:20260424T011322
CREATED:20200623T200716Z
LAST-MODIFIED:20200623T200716Z
UID:11364-1598122800-1598133600@colleenlloy.com
SUMMARY:Vanh Dy's Asian Restaurant & Lounge
DESCRIPTION:
URL:https://colleenlloy.com/calendar/hanks-in-the-boro-15/
LOCATION:SC
END:VEVENT
END:VCALENDAR