BEGIN:VCALENDAR
VERSION:2.0
PRODID:-//COLLEEN LLOY - ECPv6.15.20//NONSGML v1.0//EN
CALSCALE:GREGORIAN
METHOD:PUBLISH
X-ORIGINAL-URL:https://colleenlloy.com
X-WR-CALDESC:Events for COLLEEN LLOY
REFRESH-INTERVAL;VALUE=DURATION:PT1H
X-Robots-Tag:noindex
X-PUBLISHED-TTL:PT1H
BEGIN:VTIMEZONE
TZID:UTC
BEGIN:STANDARD
TZOFFSETFROM:+0000
TZOFFSETTO:+0000
TZNAME:UTC
DTSTART:20200101T000000
END:STANDARD
END:VTIMEZONE
BEGIN:VEVENT
DTSTART;TZID=UTC:20210307T163000
DTEND;TZID=UTC:20210307T210000
DTSTAMP:20260422T231621
CREATED:20210307T154252Z
LAST-MODIFIED:20210307T154252Z
UID:13504-1615134600-1615150800@colleenlloy.com
SUMMARY:Opryland-the Falls
DESCRIPTION:
URL:https://colleenlloy.com/calendar/opryland-the-falls-4/
LOCATION:SC
END:VEVENT
BEGIN:VEVENT
DTSTART;TZID=UTC:20210311T180000
DTEND;TZID=UTC:20210311T210000
DTSTAMP:20260422T231621
CREATED:20210307T160307Z
LAST-MODIFIED:20210307T160307Z
UID:13513-1615485600-1615496400@colleenlloy.com
SUMMARY:Water's Edge
DESCRIPTION:
URL:https://colleenlloy.com/calendar/waters-edge/
LOCATION:SC
END:VEVENT
BEGIN:VEVENT
DTSTART;TZID=UTC:20210313T150000
DTEND;TZID=UTC:20210313T180000
DTSTAMP:20260422T231621
CREATED:20210307T160448Z
LAST-MODIFIED:20210307T160448Z
UID:13517-1615647600-1615658400@colleenlloy.com
SUMMARY:Ghost Monkey Brewery
DESCRIPTION:Excited to check out this new venue!
URL:https://colleenlloy.com/calendar/ghost-monkey-brewery/
LOCATION:SC
END:VEVENT
BEGIN:VEVENT
DTSTART;TZID=UTC:20210317T190000
DTEND;TZID=UTC:20210317T220000
DTSTAMP:20260422T231621
CREATED:20210302T190111Z
LAST-MODIFIED:20210302T190111Z
UID:13471-1616007600-1616018400@colleenlloy.com
SUMMARY:TRU BLUES. HOUSE OF WINGS
DESCRIPTION:TIS ST. PATRICK’S DAY…COME ON DOWN!
URL:https://colleenlloy.com/calendar/tru-blues-house-of-wings-4/
LOCATION:SC
END:VEVENT
BEGIN:VEVENT
DTSTART;TZID=UTC:20210318T190000
DTEND;TZID=UTC:20210318T220000
DTSTAMP:20260422T231621
CREATED:20210302T190811Z
LAST-MODIFIED:20210302T190811Z
UID:13478-1616094000-1616104800@colleenlloy.com
SUMMARY:Park Circle Coney Island
DESCRIPTION:Great food! Nice vibe!
URL:https://colleenlloy.com/calendar/park-circle-coney-island-2/
LOCATION:SC
END:VEVENT
BEGIN:VEVENT
DTSTART;TZID=UTC:20210320T160000
DTEND;TZID=UTC:20210320T190000
DTSTAMP:20260422T231621
CREATED:20210307T160602Z
LAST-MODIFIED:20210307T160602Z
UID:13519-1616256000-1616266800@colleenlloy.com
SUMMARY:Water's Edge
DESCRIPTION:
URL:https://colleenlloy.com/calendar/waters-edge-3/
LOCATION:SC
END:VEVENT
BEGIN:VEVENT
DTSTART;TZID=UTC:20210325T180000
DTEND;TZID=UTC:20210325T210000
DTSTAMP:20260422T231621
CREATED:20210307T160354Z
LAST-MODIFIED:20210307T160354Z
UID:13515-1616695200-1616706000@colleenlloy.com
SUMMARY:Water's Edge
DESCRIPTION:
URL:https://colleenlloy.com/calendar/waters-edge-2/
LOCATION:SC
END:VEVENT
BEGIN:VEVENT
DTSTART;TZID=UTC:20210326T190000
DTEND;TZID=UTC:20210326T220000
DTSTAMP:20260422T231621
CREATED:20210302T190203Z
LAST-MODIFIED:20210302T190203Z
UID:13473-1616785200-1616796000@colleenlloy.com
SUMMARY:TRU BLUES. HOUSE OF WINGS
DESCRIPTION:
URL:https://colleenlloy.com/calendar/tru-blues-house-of-wings-5/
LOCATION:SC
END:VEVENT
BEGIN:VEVENT
DTSTART;TZID=UTC:20210328T160000
DTEND;TZID=UTC:20210328T210000
DTSTAMP:20260422T231621
CREATED:20210307T160226Z
LAST-MODIFIED:20210307T160226Z
UID:13511-1616947200-1616965200@colleenlloy.com
SUMMARY:Opryland-The Falls
DESCRIPTION:
URL:https://colleenlloy.com/calendar/opryland-the-falls-5/
LOCATION:SC
END:VEVENT
END:VCALENDAR