BEGIN:VCALENDAR
VERSION:2.0
PRODID:-//COLLEEN LLOY - ECPv6.15.20//NONSGML v1.0//EN
CALSCALE:GREGORIAN
METHOD:PUBLISH
X-WR-CALNAME:COLLEEN LLOY
X-ORIGINAL-URL:https://colleenlloy.com
X-WR-CALDESC:Events for COLLEEN LLOY
REFRESH-INTERVAL;VALUE=DURATION:PT1H
X-Robots-Tag:noindex
X-PUBLISHED-TTL:PT1H
BEGIN:VTIMEZONE
TZID:UTC
BEGIN:STANDARD
TZOFFSETFROM:+0000
TZOFFSETTO:+0000
TZNAME:UTC
DTSTART:20200101T000000
END:STANDARD
END:VTIMEZONE
BEGIN:VEVENT
DTSTART;TZID=UTC:20210403T170000
DTEND;TZID=UTC:20210403T200000
DTSTAMP:20260422T212137
CREATED:20210307T161053Z
LAST-MODIFIED:20210307T161053Z
UID:13522-1617469200-1617480000@colleenlloy.com
SUMMARY:Harbour Club at WestEdge
DESCRIPTION:Wonderful place!!!!!
URL:https://colleenlloy.com/calendar/harbour-club-at-westedge/
LOCATION:SC
END:VEVENT
BEGIN:VEVENT
DTSTART;TZID=UTC:20210404T160000
DTEND;TZID=UTC:20210404T190000
DTSTAMP:20260422T212137
CREATED:20210307T161141Z
LAST-MODIFIED:20210307T161141Z
UID:13524-1617552000-1617562800@colleenlloy.com
SUMMARY:Water's Edge
DESCRIPTION:
URL:https://colleenlloy.com/calendar/waters-edge-4/
LOCATION:SC
END:VEVENT
BEGIN:VEVENT
DTSTART;TZID=UTC:20210408T180000
DTEND;TZID=UTC:20210408T210000
DTSTAMP:20260422T212137
CREATED:20210307T161217Z
LAST-MODIFIED:20210307T161217Z
UID:13526-1617904800-1617915600@colleenlloy.com
SUMMARY:Water's Edge
DESCRIPTION:
URL:https://colleenlloy.com/calendar/waters-edge-5/
LOCATION:SC
END:VEVENT
BEGIN:VEVENT
DTSTART;TZID=UTC:20210409T190000
DTEND;TZID=UTC:20210409T220000
DTSTAMP:20260422T212137
CREATED:20210307T161415Z
LAST-MODIFIED:20210307T161415Z
UID:13532-1617994800-1618005600@colleenlloy.com
SUMMARY:Tru Blues House of Wings
DESCRIPTION:
URL:https://colleenlloy.com/calendar/tru-blues-house-of-wings-6/
LOCATION:SC
END:VEVENT
BEGIN:VEVENT
DTSTART;TZID=UTC:20210417T160000
DTEND;TZID=UTC:20210417T190000
DTSTAMP:20260422T212137
CREATED:20210307T161338Z
LAST-MODIFIED:20210307T161338Z
UID:13530-1618675200-1618686000@colleenlloy.com
SUMMARY:Water's Edge
DESCRIPTION:
URL:https://colleenlloy.com/calendar/waters-edge-7/
LOCATION:SC
END:VEVENT
BEGIN:VEVENT
DTSTART;TZID=UTC:20210422T180000
DTEND;TZID=UTC:20210422T210000
DTSTAMP:20260422T212137
CREATED:20210307T161301Z
LAST-MODIFIED:20210307T161301Z
UID:13528-1619114400-1619125200@colleenlloy.com
SUMMARY:Water's Edge
DESCRIPTION:
URL:https://colleenlloy.com/calendar/waters-edge-6/
LOCATION:SC
END:VEVENT
BEGIN:VEVENT
DTSTART;TZID=UTC:20210430T160000
DTEND;TZID=UTC:20210430T190000
DTSTAMP:20260422T212137
CREATED:20210307T161513Z
LAST-MODIFIED:20210307T161513Z
UID:13534-1619798400-1619809200@colleenlloy.com
SUMMARY:Tru Blues House of Wings
DESCRIPTION:
URL:https://colleenlloy.com/calendar/tru-blues-house-of-wings-7/
LOCATION:SC
END:VEVENT
END:VCALENDAR