BEGIN:VCALENDAR
VERSION:2.0
PRODID:-//COLLEEN LLOY - ECPv6.15.20//NONSGML v1.0//EN
CALSCALE:GREGORIAN
METHOD:PUBLISH
X-WR-CALNAME:COLLEEN LLOY
X-ORIGINAL-URL:https://colleenlloy.com
X-WR-CALDESC:Events for COLLEEN LLOY
REFRESH-INTERVAL;VALUE=DURATION:PT1H
X-Robots-Tag:noindex
X-PUBLISHED-TTL:PT1H
BEGIN:VTIMEZONE
TZID:UTC
BEGIN:STANDARD
TZOFFSETFROM:+0000
TZOFFSETTO:+0000
TZNAME:UTC
DTSTART:20200101T000000
END:STANDARD
END:VTIMEZONE
BEGIN:VEVENT
DTSTART;TZID=UTC:20210805T180000
DTEND;TZID=UTC:20210805T210000
DTSTAMP:20260421T221604
CREATED:20210307T163646Z
LAST-MODIFIED:20210307T163646Z
UID:13570-1628186400-1628197200@colleenlloy.com
SUMMARY:WATER'S EDGE
DESCRIPTION:
URL:https://colleenlloy.com/calendar/waters-edge-20/
LOCATION:SC
END:VEVENT
BEGIN:VEVENT
DTSTART;TZID=UTC:20210806T180000
DTEND;TZID=UTC:20210806T210000
DTSTAMP:20260421T221604
CREATED:20210720T232417Z
LAST-MODIFIED:20210720T232417Z
UID:13710-1628272800-1628283600@colleenlloy.com
SUMMARY:Slightly North of Broad
DESCRIPTION:
URL:https://colleenlloy.com/calendar/slightly-north-of-broad/
LOCATION:Slightly North of Broad (SNOB)\, 192 E Bay Street\, Charleston\, South Carolins\, 29401
END:VEVENT
BEGIN:VEVENT
DTSTART;TZID=UTC:20210807T183000
DTEND;TZID=UTC:20210807T223000
DTSTAMP:20260421T221604
CREATED:20210625T220125Z
LAST-MODIFIED:20210625T220125Z
UID:13697-1628361000-1628375400@colleenlloy.com
SUMMARY:High Cotton
DESCRIPTION:
URL:https://colleenlloy.com/calendar/high-cotton-3/
LOCATION:High Cotton\, 199 E. Bay Street\, Charleston\, SC\, 29401\, United States
END:VEVENT
BEGIN:VEVENT
DTSTART;TZID=UTC:20210813T180000
DTEND;TZID=UTC:20210813T210000
DTSTAMP:20260421T221604
CREATED:20210720T232544Z
LAST-MODIFIED:20210720T232544Z
UID:13712-1628877600-1628888400@colleenlloy.com
SUMMARY:Slightly North of Broad
DESCRIPTION:Slightly North of Broad
URL:https://colleenlloy.com/calendar/slightly-north-of-broad-2/
LOCATION:Slightly North of Broad (SNOB)\, 192 E Bay Street\, Charleston\, South Carolins\, 29401
END:VEVENT
BEGIN:VEVENT
DTSTART;TZID=UTC:20210814T160000
DTEND;TZID=UTC:20210814T190000
DTSTAMP:20260421T221604
CREATED:20210307T164059Z
LAST-MODIFIED:20210307T164059Z
UID:13574-1628956800-1628967600@colleenlloy.com
SUMMARY:WATER'S EDGE
DESCRIPTION:
URL:https://colleenlloy.com/calendar/waters-edge-22/
LOCATION:SC
END:VEVENT
BEGIN:VEVENT
DTSTART;TZID=UTC:20210819T180000
DTEND;TZID=UTC:20210819T210000
DTSTAMP:20260421T221604
CREATED:20210307T163725Z
LAST-MODIFIED:20210307T163725Z
UID:13572-1629396000-1629406800@colleenlloy.com
SUMMARY:WATER'S EDGE
DESCRIPTION:
URL:https://colleenlloy.com/calendar/waters-edge-21/
LOCATION:SC
END:VEVENT
BEGIN:VEVENT
DTSTART;TZID=UTC:20210820T180000
DTEND;TZID=UTC:20210820T210000
DTSTAMP:20260421T221604
CREATED:20210720T233240Z
LAST-MODIFIED:20210720T233240Z
UID:13714-1629482400-1629493200@colleenlloy.com
SUMMARY:Slightly North of Broad
DESCRIPTION:
URL:https://colleenlloy.com/calendar/slightly-north-of-broad-3/
LOCATION:Slightly North of Broad (SNOB)\, 192 E Bay Street\, Charleston\, South Carolins\, 29401
END:VEVENT
BEGIN:VEVENT
DTSTART;TZID=UTC:20210827T180000
DTEND;TZID=UTC:20210827T210000
DTSTAMP:20260421T221604
CREATED:20210720T233350Z
LAST-MODIFIED:20210720T233350Z
UID:13716-1630087200-1630098000@colleenlloy.com
SUMMARY:Slightly North of Broad
DESCRIPTION:
URL:https://colleenlloy.com/calendar/slightly-north-of-broad-4/
LOCATION:Slightly North of Broad (SNOB)\, 192 E Bay Street\, Charleston\, South Carolins\, 29401
END:VEVENT
BEGIN:VEVENT
DTSTART;TZID=UTC:20210828T160000
DTEND;TZID=UTC:20210828T190000
DTSTAMP:20260421T221604
CREATED:20210307T164144Z
LAST-MODIFIED:20210307T164144Z
UID:13576-1630166400-1630177200@colleenlloy.com
SUMMARY:WATER'S EDGE
DESCRIPTION:
URL:https://colleenlloy.com/calendar/waters-edge-23/
LOCATION:SC
END:VEVENT
END:VCALENDAR