BEGIN:VCALENDAR
VERSION:2.0
PRODID:-//COLLEEN LLOY - ECPv6.15.20//NONSGML v1.0//EN
CALSCALE:GREGORIAN
METHOD:PUBLISH
X-ORIGINAL-URL:https://colleenlloy.com
X-WR-CALDESC:Events for COLLEEN LLOY
REFRESH-INTERVAL;VALUE=DURATION:PT1H
X-Robots-Tag:noindex
X-PUBLISHED-TTL:PT1H
BEGIN:VTIMEZONE
TZID:UTC
BEGIN:STANDARD
TZOFFSETFROM:+0000
TZOFFSETTO:+0000
TZNAME:UTC
DTSTART:20210101T000000
END:STANDARD
END:VTIMEZONE
BEGIN:VEVENT
DTSTART;TZID=UTC:20220304T190000
DTEND;TZID=UTC:20220304T220000
DTSTAMP:20260421T095938
CREATED:20220127T224018Z
LAST-MODIFIED:20220127T224018Z
UID:13750-1646420400-1646431200@colleenlloy.com
SUMMARY:Singing at Slightly North of Broad
DESCRIPTION:
URL:https://colleenlloy.com/calendar/singing-at-slightly-north-of-broad-6/
LOCATION:Slightly North of Broad (SNOB)\, 192 E Bay Street\, Charleston\, South Carolins\, 29401
END:VEVENT
BEGIN:VEVENT
DTSTART;TZID=UTC:20220311T190000
DTEND;TZID=UTC:20220311T220000
DTSTAMP:20260421T095938
CREATED:20220127T224108Z
LAST-MODIFIED:20220127T224108Z
UID:13752-1647025200-1647036000@colleenlloy.com
SUMMARY:Singing at Slightly North of Broad
DESCRIPTION:
URL:https://colleenlloy.com/calendar/singing-at-slightly-north-of-broad-7/
LOCATION:Slightly North of Broad (SNOB)\, 192 E Bay Street\, Charleston\, South Carolins\, 29401
END:VEVENT
BEGIN:VEVENT
DTSTART;TZID=UTC:20220318T190000
DTEND;TZID=UTC:20220318T220000
DTSTAMP:20260421T095938
CREATED:20220127T224157Z
LAST-MODIFIED:20220127T224157Z
UID:13754-1647630000-1647640800@colleenlloy.com
SUMMARY:Singing at Slightly North of Broad
DESCRIPTION:
URL:https://colleenlloy.com/calendar/singing-at-slightly-north-of-broad-8/
LOCATION:Slightly North of Broad (SNOB)\, 192 E Bay Street\, Charleston\, South Carolins\, 29401
END:VEVENT
BEGIN:VEVENT
DTSTART;TZID=UTC:20220325T190000
DTEND;TZID=UTC:20220325T220000
DTSTAMP:20260421T095938
CREATED:20220127T224247Z
LAST-MODIFIED:20220127T224247Z
UID:13756-1648234800-1648245600@colleenlloy.com
SUMMARY:Singing at Slightly North of Broad
DESCRIPTION:
URL:https://colleenlloy.com/calendar/singing-at-slightly-north-of-broad-9/
LOCATION:Slightly North of Broad (SNOB)\, 192 E Bay Street\, Charleston\, South Carolins\, 29401
END:VEVENT
END:VCALENDAR