BEGIN:VCALENDAR
VERSION:2.0
PRODID:-//COLLEEN LLOY - ECPv6.15.20//NONSGML v1.0//EN
CALSCALE:GREGORIAN
METHOD:PUBLISH
X-WR-CALNAME:COLLEEN LLOY
X-ORIGINAL-URL:https://colleenlloy.com
X-WR-CALDESC:Events for COLLEEN LLOY
REFRESH-INTERVAL;VALUE=DURATION:PT1H
X-Robots-Tag:noindex
X-PUBLISHED-TTL:PT1H
BEGIN:VTIMEZONE
TZID:UTC
BEGIN:STANDARD
TZOFFSETFROM:+0000
TZOFFSETTO:+0000
TZNAME:UTC
DTSTART:20210101T000000
END:STANDARD
END:VTIMEZONE
BEGIN:VEVENT
DTSTART;TZID=UTC:20220603T190000
DTEND;TZID=UTC:20220603T220000
DTSTAMP:20260421T003535
CREATED:20220409T150942Z
LAST-MODIFIED:20220409T150942Z
UID:13819-1654282800-1654293600@colleenlloy.com
SUMMARY:Slightly North of Broad
DESCRIPTION:
URL:https://colleenlloy.com/calendar/slightly-north-of-broad-13/
LOCATION:Slightly North of Broad (SNOB)\, 192 E Bay Street\, Charleston\, South Carolins\, 29401
END:VEVENT
BEGIN:VEVENT
DTSTART;TZID=UTC:20220604T200000
DTEND;TZID=UTC:20220604T230000
DTSTAMP:20260421T003535
CREATED:20220420T001358Z
LAST-MODIFIED:20220420T001756Z
UID:13843-1654372800-1654383600@colleenlloy.com
SUMMARY:Uncork Charleston
DESCRIPTION:
URL:https://colleenlloy.com/calendar/uncork-charleston-2/
LOCATION:UnCork Charleston\, 476 King St\, Charleston\, South Carolina\, 29403
END:VEVENT
BEGIN:VEVENT
DTSTART;TZID=UTC:20220608T170000
DTEND;TZID=UTC:20220608T210000
DTSTAMP:20260421T003535
CREATED:20220409T150730Z
LAST-MODIFIED:20220409T150730Z
UID:13815-1654707600-1654722000@colleenlloy.com
SUMMARY:Awendaw Green
DESCRIPTION:
URL:https://colleenlloy.com/calendar/awendaw-green/
LOCATION:Awendaw Green\, 4853 N Hwy 17\, Awendaw\, sc\, 29429
END:VEVENT
BEGIN:VEVENT
DTSTART;TZID=UTC:20220610T190000
DTEND;TZID=UTC:20220610T220000
DTSTAMP:20260421T003535
CREATED:20220409T151036Z
LAST-MODIFIED:20220409T151036Z
UID:13821-1654887600-1654898400@colleenlloy.com
SUMMARY:Slightly North of Broad
DESCRIPTION:
URL:https://colleenlloy.com/calendar/slightly-north-of-broad-14/
LOCATION:Slightly North of Broad (SNOB)\, 192 E Bay Street\, Charleston\, South Carolins\, 29401
END:VEVENT
BEGIN:VEVENT
DTSTART;TZID=UTC:20220617T190000
DTEND;TZID=UTC:20220617T220000
DTSTAMP:20260421T003535
CREATED:20220409T151128Z
LAST-MODIFIED:20220409T151128Z
UID:13823-1655492400-1655503200@colleenlloy.com
SUMMARY:Slightly North of Broad
DESCRIPTION:
URL:https://colleenlloy.com/calendar/slightly-north-of-broad-15/
LOCATION:Slightly North of Broad (SNOB)\, 192 E Bay Street\, Charleston\, South Carolins\, 29401
END:VEVENT
BEGIN:VEVENT
DTSTART;TZID=UTC:20220618T160000
DTEND;TZID=UTC:20220618T183000
DTSTAMP:20260421T003535
CREATED:20220420T001546Z
LAST-MODIFIED:20220420T001546Z
UID:13845-1655568000-1655577000@colleenlloy.com
SUMMARY:High Cotton
DESCRIPTION:
URL:https://colleenlloy.com/calendar/high-cotton-4/
LOCATION:High Cotton\, 199 E. Bay Street\, Charleston\, SC\, 29401\, United States
END:VEVENT
BEGIN:VEVENT
DTSTART;TZID=UTC:20220624T190000
DTEND;TZID=UTC:20220624T220000
DTSTAMP:20260421T003535
CREATED:20220420T002345Z
LAST-MODIFIED:20220420T002345Z
UID:13847-1656097200-1656108000@colleenlloy.com
SUMMARY:Slightly North of Broad
DESCRIPTION:
URL:https://colleenlloy.com/calendar/slightly-north-of-broad-17/
LOCATION:Slightly North of Broad (SNOB)\, 192 E Bay Street\, Charleston\, South Carolins\, 29401
END:VEVENT
BEGIN:VEVENT
DTSTART;TZID=UTC:20220625T150000
DTEND;TZID=UTC:20220625T180000
DTSTAMP:20260421T003535
CREATED:20220227T192054Z
LAST-MODIFIED:20220227T192054Z
UID:13790-1656169200-1656180000@colleenlloy.com
SUMMARY:Ghost Monkey Brewery is the place to be
DESCRIPTION:
URL:https://colleenlloy.com/calendar/ghost-monkey-brewery-is-the-place-to-be-2/
LOCATION:Ghost Monkey Brewery\, 522 Wando Lane\, Mt.Pleasant\, SC\, 29464\, United States
END:VEVENT
BEGIN:VEVENT
DTSTART;TZID=UTC:20220626T140000
DTEND;TZID=UTC:20220626T170000
DTSTAMP:20260421T003535
CREATED:20220409T150318Z
LAST-MODIFIED:20220429T135423Z
UID:13813-1656252000-1656262800@colleenlloy.com
SUMMARY:The Kingstide- Daniel Island
DESCRIPTION:
URL:https://colleenlloy.com/calendar/the-kingstide-daniel-island-8/
LOCATION:The Kingstide\, 32 River Landing Drive\, Daniel Island\, SC\, 29492\, United States
END:VEVENT
END:VCALENDAR