BEGIN:VCALENDAR
VERSION:2.0
PRODID:-//COLLEEN LLOY - ECPv6.15.20//NONSGML v1.0//EN
CALSCALE:GREGORIAN
METHOD:PUBLISH
X-ORIGINAL-URL:https://colleenlloy.com
X-WR-CALDESC:Events for COLLEEN LLOY
REFRESH-INTERVAL;VALUE=DURATION:PT1H
X-Robots-Tag:noindex
X-PUBLISHED-TTL:PT1H
BEGIN:VTIMEZONE
TZID:UTC
BEGIN:STANDARD
TZOFFSETFROM:+0000
TZOFFSETTO:+0000
TZNAME:UTC
DTSTART:20220101T000000
END:STANDARD
END:VTIMEZONE
BEGIN:VEVENT
DTSTART;TZID=UTC:20230303T190000
DTEND;TZID=UTC:20230308T220000
DTSTAMP:20260420T070030
CREATED:20230308T005610Z
LAST-MODIFIED:20230308T005610Z
UID:13954-1677870000-1678312800@colleenlloy.com
SUMMARY:Slightly North of Broad-
DESCRIPTION:Join me for dinner and drinks in a wonderful environment. 🙂
URL:https://colleenlloy.com/calendar/slightly-north-of-broad-38/
LOCATION:Slightly North of Broad (SNOB)\, 192 E Bay Street\, Charleston\, South Carolins\, 29401
END:VEVENT
BEGIN:VEVENT
DTSTART;TZID=UTC:20230304T150000
DTEND;TZID=UTC:20230304T170000
DTSTAMP:20260420T070030
CREATED:20230308T005908Z
LAST-MODIFIED:20230308T005908Z
UID:13956-1677942000-1677949200@colleenlloy.com
SUMMARY:Private Event- Seabrook
DESCRIPTION:
URL:https://colleenlloy.com/calendar/private-event-seabrook/
LOCATION:Seabrook\, 3771 Seabrook Island Road\, Seabrook\, SC\, United States
END:VEVENT
BEGIN:VEVENT
DTSTART;TZID=UTC:20230310T190000
DTEND;TZID=UTC:20230310T220000
DTSTAMP:20260420T070030
CREATED:20230308T010127Z
LAST-MODIFIED:20230308T010127Z
UID:13959-1678474800-1678485600@colleenlloy.com
SUMMARY:Slightly North of Broad
DESCRIPTION:Join me for an evening of great music and dining. 🙂
URL:https://colleenlloy.com/calendar/slightly-north-of-broad-39/
LOCATION:Slightly North of Broad (SNOB)\, 192 E Bay Street\, Charleston\, South Carolins\, 29401
END:VEVENT
BEGIN:VEVENT
DTSTART;TZID=UTC:20230317T190000
DTEND;TZID=UTC:20230317T220000
DTSTAMP:20260420T070030
CREATED:20230308T010447Z
LAST-MODIFIED:20230308T010447Z
UID:13966-1679079600-1679090400@colleenlloy.com
SUMMARY:Slightly North of Broad
DESCRIPTION:
URL:https://colleenlloy.com/calendar/slightly-north-of-broad-41/
LOCATION:Slightly North of Broad (SNOB)\, 192 E Bay Street\, Charleston\, South Carolins\, 29401
END:VEVENT
BEGIN:VEVENT
DTSTART;TZID=UTC:20230324T183000
DTEND;TZID=UTC:20230324T220000
DTSTAMP:20260420T070030
CREATED:20230308T010213Z
LAST-MODIFIED:20230308T010325Z
UID:13961-1679682600-1679695200@colleenlloy.com
SUMMARY:Private Event Nashville
DESCRIPTION:
URL:https://colleenlloy.com/calendar/slightly-north-of-broad-40/
LOCATION:Private
END:VEVENT
BEGIN:VEVENT
DTSTART;TZID=UTC:20230331T190000
DTEND;TZID=UTC:20230331T220000
DTSTAMP:20260420T070030
CREATED:20230308T010544Z
LAST-MODIFIED:20230308T010635Z
UID:13968-1680289200-1680300000@colleenlloy.com
SUMMARY:Slightly North of Broad
DESCRIPTION:
URL:https://colleenlloy.com/calendar/slightly-north-of-broad-42/
LOCATION:Slightly North of Broad (SNOB)\, 192 E Bay Street\, Charleston\, South Carolins\, 29401
END:VEVENT
END:VCALENDAR