BEGIN:VCALENDAR
VERSION:2.0
PRODID:-//COLLEEN LLOY - ECPv6.15.20//NONSGML v1.0//EN
CALSCALE:GREGORIAN
METHOD:PUBLISH
X-WR-CALNAME:COLLEEN LLOY
X-ORIGINAL-URL:https://colleenlloy.com
X-WR-CALDESC:Events for COLLEEN LLOY
REFRESH-INTERVAL;VALUE=DURATION:PT1H
X-Robots-Tag:noindex
X-PUBLISHED-TTL:PT1H
BEGIN:VTIMEZONE
TZID:UTC
BEGIN:STANDARD
TZOFFSETFROM:+0000
TZOFFSETTO:+0000
TZNAME:UTC
DTSTART:20220101T000000
END:STANDARD
END:VTIMEZONE
BEGIN:VEVENT
DTSTART;TZID=UTC:20230505T193000
DTEND;TZID=UTC:20230505T220000
DTSTAMP:20260420T033344
CREATED:20230430T170642Z
LAST-MODIFIED:20230430T170748Z
UID:13992-1683315000-1683324000@colleenlloy.com
SUMMARY:Slightly North of Broad
DESCRIPTION:
URL:https://colleenlloy.com/calendar/slightly-north-of-broad-47/
LOCATION:Slightly North of Broad (SNOB)\, 192 E Bay Street\, Charleston\, South Carolins\, 29401
END:VEVENT
BEGIN:VEVENT
DTSTART;TZID=UTC:20230506T160000
DTEND;TZID=UTC:20230506T183000
DTSTAMP:20260420T033344
CREATED:20230430T170807Z
LAST-MODIFIED:20230430T170838Z
UID:13994-1683388800-1683397800@colleenlloy.com
SUMMARY:High Cotton
DESCRIPTION:
URL:https://colleenlloy.com/calendar/high-cotton-8/
LOCATION:High Cotton\, 199 E. Bay Street\, Charleston\, SC\, 29401\, United States
END:VEVENT
BEGIN:VEVENT
DTSTART;TZID=UTC:20230512T190000
DTEND;TZID=UTC:20230512T220000
DTSTAMP:20260420T033344
CREATED:20230430T170844Z
LAST-MODIFIED:20230430T170920Z
UID:13996-1683918000-1683928800@colleenlloy.com
SUMMARY:Slightly North of Broad
DESCRIPTION:
URL:https://colleenlloy.com/calendar/slightly-north-of-broad-48/
LOCATION:Slightly North of Broad (SNOB)\, 192 E Bay Street\, Charleston\, South Carolins\, 29401
END:VEVENT
BEGIN:VEVENT
DTSTART;TZID=UTC:20230519T190000
DTEND;TZID=UTC:20230519T220000
DTSTAMP:20260420T033344
CREATED:20230430T170927Z
LAST-MODIFIED:20230430T171005Z
UID:13998-1684522800-1684533600@colleenlloy.com
SUMMARY:Slightly North of Broad
DESCRIPTION:
URL:https://colleenlloy.com/calendar/slightly-north-of-broad-49/
LOCATION:Slightly North of Broad (SNOB)\, 192 E Bay Street\, Charleston\, South Carolins\, 29401
END:VEVENT
BEGIN:VEVENT
DTSTART;TZID=UTC:20230525T080000
DTEND;TZID=UTC:20230531T170000
DTSTAMP:20260420T033344
CREATED:20230430T171654Z
LAST-MODIFIED:20230430T171737Z
UID:14014-1685001600-1685552400@colleenlloy.com
SUMMARY:Private Event Sacramento\, CA
DESCRIPTION:
URL:https://colleenlloy.com/calendar/private-event-sacramento-ca/
LOCATION:Private
END:VEVENT
END:VCALENDAR